Workbook

Sheet cOVER
A3: BUKU PENILAIAN HARIAN KELAS I
A4: SEMESTER 2 TAHUN PELAJARAN 20../20..
A5: KURIKULUM 2013
E19: Nama Guru Kelas | H19: : | I19: WEBSITEEDUKASI.COM
E20: NIP | H20: : | I20: 19880420 201409 0 000
E21: Sekolah | H21: : | I21: SD Negeri 1 WEBSITEEDUKASI.COM
A23: UPTD PENDIDIKAN KECAMATAN TUMIJAJAR
A24: DINAS PENDIDIKAN KABUPATEN TUBA BARAT
A25: 20..

Sheet T5ST1
A1: DAFTAR NILAI KELAS 1 SEMESTER 2
A2: TEMA 5 SUB TEMA 1
A4: NO | B4: NISN | C4: NAMA SISWA | D4: PKN | L4: B. INDO | T4: MATEMATIKA | AB4: PJOK | AJ4: SBDP
D5: KD 3.1 | H5: KD 4.1 | L5: KD 3.8 | P5: KD 4.8 | T5: KD 3.1 | X5: KD 4.1 | AB5: KD 3.5 | AF5: KD 4.5 | AJ5: KD 3.2 | AN5: KD 4.2
D6: Tls | E6: Lsn | F6: Tgs | G6: RT | H6: Prkt | I6: Prod | J6: Pryk | K6: RT | L6: Tls | M6: Lsn | N6: Tgs | O6: RT | P6: Prkt | Q6: Prod | R6: Pryk | S6: RT | T6: Tls | U6: Lsn | V6: Tgs | W6: RT | X6: Prkt | Y6: Prod | Z6: Pryk | AA6: RT | AB6: Tls | AC6: Lsn | AD6: Tgs | AE6: RT | AF6: Prkt | AG6: Prod | AH6: Pryk | AI6: RT | AJ6: Tls | AK6: Lsn | AL6: Tgs | AM6: RT | AN6: Prkt | AO6: Prod | AP6: Pryk | AQ6: RT
A7: 1 | C7: ARI RUSWANDANA | G7: =IFERROR(AVERAGE(D7:F7),"") | K7: =IFERROR(AVERAGE(H7:J7),"") | O7: =IFERROR(AVERAGE(L7:N7),"") | S7: =IFERROR(AVERAGE(P7:R7),"") | W7: =IFERROR(AVERAGE(T7:V7),"") | AA7: =IFERROR(AVERAGE(X7:Z7),"") | AE7: =IFERROR(AVERAGE(AB7:AD7),"") | AI7: =IFERROR(AVERAGE(AF7:AH7),"") | AM7: =IFERROR(AVERAGE(AJ7:AL7),"") | AQ7: =IFERROR(AVERAGE(AN7:AP7),"")
A8: 2 | C8: ADAM FADILAH HATMAJI | G8: =IFERROR(AVERAGE(D8:F8),"") | K8: =IFERROR(AVERAGE(H8:J8),"") | O8: =IFERROR(AVERAGE(L8:N8),"") | S8: =IFERROR(AVERAGE(P8:R8),"") | W8: =IFERROR(AVERAGE(T8:V8),"") | AA8: =IFERROR(AVERAGE(X8:Z8),"") | AE8: =IFERROR(AVERAGE(AB8:AD8),"") | AI8: =IFERROR(AVERAGE(AF8:AH8),"") | AM8: =IFERROR(AVERAGE(AJ8:AL8),"") | AQ8: =IFERROR(AVERAGE(AN8:AP8),"")
A9: 3 | C9: AJRIL BILUTFILLAHIL MUNIR | G9: =IFERROR(AVERAGE(D9:F9),"") | K9: =IFERROR(AVERAGE(H9:J9),"") | O9: =IFERROR(AVERAGE(L9:N9),"") | S9: =IFERROR(AVERAGE(P9:R9),"") | W9: =IFERROR(AVERAGE(T9:V9),"") | AA9: =IFERROR(AVERAGE(X9:Z9),"") | AE9: =IFERROR(AVERAGE(AB9:AD9),"") | AI9: =IFERROR(AVERAGE(AF9:AH9),"") | AM9: =IFERROR(AVERAGE(AJ9:AL9),"") | AQ9: =IFERROR(AVERAGE(AN9:AP9),"")
A10: 4 | C10: ALDIANSYAH | G10: =IFERROR(AVERAGE(D10:F10),"") | K10: =IFERROR(AVERAGE(H10:J10),"") | O10: =IFERROR(AVERAGE(L10:N10),"") | S10: =IFERROR(AVERAGE(P10:R10),"") | W10: =IFERROR(AVERAGE(T10:V10),"") | AA10: =IFERROR(AVERAGE(X10:Z10),"") | AE10: =IFERROR(AVERAGE(AB10:AD10),"") | AI10: =IFERROR(AVERAGE(AF10:AH10),"") | AM10: =IFERROR(AVERAGE(AJ10:AL10),"") | AQ10: =IFERROR(AVERAGE(AN10:AP10),"")
A11: 5 | C11: ANDINI RAHMAWATI | G11: =IFERROR(AVERAGE(D11:F11),"") | K11: =IFERROR(AVERAGE(H11:J11),"") | O11: =IFERROR(AVERAGE(L11:N11),"") | S11: =IFERROR(AVERAGE(P11:R11),"") | W11: =IFERROR(AVERAGE(T11:V11),"") | AA11: =IFERROR(AVERAGE(X11:Z11),"") | AE11: =IFERROR(AVERAGE(AB11:AD11),"") | AI11: =IFERROR(AVERAGE(AF11:AH11),"") | AM11: =IFERROR(AVERAGE(AJ11:AL11),"") | AQ11: =IFERROR(AVERAGE(AN11:AP11),"")
A12: 6 | C12: ANEU ZAHROTUL MUNA | G12: =IFERROR(AVERAGE(D12:F12),"") | K12: =IFERROR(AVERAGE(H12:J12),"") | O12: =IFERROR(AVERAGE(L12:N12),"") | S12: =IFERROR(AVERAGE(P12:R12),"") | W12: =IFERROR(AVERAGE(T12:V12),"") | AA12: =IFERROR(AVERAGE(X12:Z12),"") | AE12: =IFERROR(AVERAGE(AB12:AD12),"") | AI12: =IFERROR(AVERAGE(AF12:AH12),"") | AM12: =IFERROR(AVERAGE(AJ12:AL12),"") | AQ12: =IFERROR(AVERAGE(AN12:AP12),"")
A13: 7 | C13: ANISA NURSAHIDAH | G13: =IFERROR(AVERAGE(D13:F13),"") | K13: =IFERROR(AVERAGE(H13:J13),"") | O13: =IFERROR(AVERAGE(L13:N13),"") | S13: =IFERROR(AVERAGE(P13:R13),"") | W13: =IFERROR(AVERAGE(T13:V13),"") | AA13: =IFERROR(AVERAGE(X13:Z13),"") | AE13: =IFERROR(AVERAGE(AB13:AD13),"") | AI13: =IFERROR(AVERAGE(AF13:AH13),"") | AM13: =IFERROR(AVERAGE(AJ13:AL13),"") | AQ13: =IFERROR(AVERAGE(AN13:AP13),"")
A14: 8 | C14: ARYA RHAMDAN | G14: =IFERROR(AVERAGE(D14:F14),"") | K14: =IFERROR(AVERAGE(H14:J14),"") | O14: =IFERROR(AVERAGE(L14:N14),"") | S14: =IFERROR(AVERAGE(P14:R14),"") | W14: =IFERROR(AVERAGE(T14:V14),"") | AA14: =IFERROR(AVERAGE(X14:Z14),"") | AE14: =IFERROR(AVERAGE(AB14:AD14),"") | AI14: =IFERROR(AVERAGE(AF14:AH14),"") | AM14: =IFERROR(AVERAGE(AJ14:AL14),"") | AQ14: =IFERROR(AVERAGE(AN14:AP14),"")
A15: 9 | C15: AZMI RIHADATUL AISY | G15: =IFERROR(AVERAGE(D15:F15),"") | K15: =IFERROR(AVERAGE(H15:J15),"") | O15: =IFERROR(AVERAGE(L15:N15),"") | S15: =IFERROR(AVERAGE(P15:R15),"") | W15: =IFERROR(AVERAGE(T15:V15),"") | AA15: =IFERROR(AVERAGE(X15:Z15),"") | AE15: =IFERROR(AVERAGE(AB15:AD15),"") | AI15: =IFERROR(AVERAGE(AF15:AH15),"") | AM15: =IFERROR(AVERAGE(AJ15:AL15),"") | AQ15: =IFERROR(AVERAGE(AN15:AP15),"")
A16: 10 | C16: DARIS DARMAWAN | G16: =IFERROR(AVERAGE(D16:F16),"") | K16: =IFERROR(AVERAGE(H16:J16),"") | O16: =IFERROR(AVERAGE(L16:N16),"") | S16: =IFERROR(AVERAGE(P16:R16),"") | W16: =IFERROR(AVERAGE(T16:V16),"") | AA16: =IFERROR(AVERAGE(X16:Z16),"") | AE16: =IFERROR(AVERAGE(AB16:AD16),"") | AI16: =IFERROR(AVERAGE(AF16:AH16),"") | AM16: =IFERROR(AVERAGE(AJ16:AL16),"") | AQ16: =IFERROR(AVERAGE(AN16:AP16),"")
A17: 11 | C17: DINA NOPITASARI | G17: =IFERROR(AVERAGE(D17:F17),"") | K17: =IFERROR(AVERAGE(H17:J17),"") | O17: =IFERROR(AVERAGE(L17:N17),"") | S17: =IFERROR(AVERAGE(P17:R17),"") | W17: =IFERROR(AVERAGE(T17:V17),"") | AA17: =IFERROR(AVERAGE(X17:Z17),"") | AE17: =IFERROR(AVERAGE(AB17:AD17),"") | AI17: =IFERROR(AVERAGE(AF17:AH17),"") | AM17: =IFERROR(AVERAGE(AJ17:AL17),"") | AQ17: =IFERROR(AVERAGE(AN17:AP17),"")
A18: 12 | C18: FAHRUL ZAELANI | G18: =IFERROR(AVERAGE(D18:F18),"") | K18: =IFERROR(AVERAGE(H18:J18),"") | O18: =IFERROR(AVERAGE(L18:N18),"") | S18: =IFERROR(AVERAGE(P18:R18),"") | W18: =IFERROR(AVERAGE(T18:V18),"") | AA18: =IFERROR(AVERAGE(X18:Z18),"") | AE18: =IFERROR(AVERAGE(AB18:AD18),"") | AI18: =IFERROR(AVERAGE(AF18:AH18),"") | AM18: =IFERROR(AVERAGE(AJ18:AL18),"") | AQ18: =IFERROR(AVERAGE(AN18:AP18),"")
... A32: 26 | C32: YASA FITRONI | G32: =IFERROR(AVERAGE(D32:F32),"") | K32: =IFERROR(AVERAGE(H32:J32),"") | O32: =IFERROR(AVERAGE(L32:N32),"") | S32: =IFERROR(AVERAGE(P32:R32),"") | W32: =IFERROR(AVERAGE(T32:V32),"") | AA32: =IFERROR(AVERAGE(X32:Z32),"") | AE32: =IFERROR(AVERAGE(AB32:AD32),"") | AI32: =IFERROR(AVERAGE(AF32:AH32),"") | AM32: =IFERROR(AVERAGE(AJ32:AL32),"") | AQ32: =IFERROR(AVERAGE(AN32:AP32),"")
A33: 27 | G33: =IFERROR(AVERAGE(D33:F33),"") | K33: =IFERROR(AVERAGE(H33:J33),"") | O33: =IFERROR(AVERAGE(L33:N33),"") | S33: =IFERROR(AVERAGE(P33:R33),"") | W33: =IFERROR(AVERAGE(T33:V33),"") | AA33: =IFERROR(AVERAGE(X33:Z33),"") | AE33: =IFERROR(AVERAGE(AB33:AD33),"") | AI33: =IFERROR(AVERAGE(AF33:AH33),"") | AM33: =IFERROR(AVERAGE(AJ33:AL33),"") | AQ33: =IFERROR(AVERAGE(AN33:AP33),"")
A34: 28 | G34: =IFERROR(AVERAGE(D34:F34),"") | K34: =IFERROR(AVERAGE(H34:J34),"") | O34: =IFERROR(AVERAGE(L34:N34),"") | S34: =IFERROR(AVERAGE(P34:R34),"") | W34: =IFERROR(AVERAGE(T34:V34),"") | AA34: =IFERROR(AVERAGE(X34:Z34),"") | AE34: =IFERROR(AVERAGE(AB34:AD34),"") | AI34: =IFERROR(AVERAGE(AF34:AH34),"") | AM34: =IFERROR(AVERAGE(AJ34:AL34),"") | AQ34: =IFERROR(AVERAGE(AN34:AP34),"")
A35: 29 | G35: =IFERROR(AVERAGE(D35:F35),"") | K35: =IFERROR(AVERAGE(H35:J35),"") | O35: =IFERROR(AVERAGE(L35:N35),"") | S35: =IFERROR(AVERAGE(P35:R35),"") | W35: =IFERROR(AVERAGE(T35:V35),"") | AA35: =IFERROR(AVERAGE(X35:Z35),"") | AE35: =IFERROR(AVERAGE(AB35:AD35),"") | AI35: =IFERROR(AVERAGE(AF35:AH35),"") | AM35: =IFERROR(AVERAGE(AJ35:AL35),"") | AQ35: =IFERROR(AVERAGE(AN35:AP35),"")
A36: 30 | G36: =IFERROR(AVERAGE(D36:F36),"") | K36: =IFERROR(AVERAGE(H36:J36),"") | O36: =IFERROR(AVERAGE(L36:N36),"") | S36: =IFERROR(AVERAGE(P36:R36),"") | W36: =IFERROR(AVERAGE(T36:V36),"") | AA36: =IFERROR(AVERAGE(X36:Z36),"") | AE36: =IFERROR(AVERAGE(AB36:AD36),"") | AI36: =IFERROR(AVERAGE(AF36:AH36),"") | AM36: =IFERROR(AVERAGE(AJ36:AL36),"") | AQ36: =IFERROR(AVERAGE(AN36:AP36),"")
A37: 31 | G37: =IFERROR(AVERAGE(D37:F37),"") | K37: =IFERROR(AVERAGE(H37:J37),"") | O37: =IFERROR(AVERAGE(L37:N37),"") | S37: =IFERROR(AVERAGE(P37:R37),"") | W37: =IFERROR(AVERAGE(T37:V37),"") | AA37: =IFERROR(AVERAGE(X37:Z37),"") | AE37: =IFERROR(AVERAGE(AB37:AD37),"") | AI37: =IFERROR(AVERAGE(AF37:AH37),"") | AM37: =IFERROR(AVERAGE(AJ37:AL37),"") | AQ37: =IFERROR(AVERAGE(AN37:AP37),"")
A38: 32 | G38: =IFERROR(AVERAGE(D38:F38),"") | K38: =IFERROR(AVERAGE(H38:J38),"") | O38: =IFERROR(AVERAGE(L38:N38),"") | S38: =IFERROR(AVERAGE(P38:R38),"") | W38: =IFERROR(AVERAGE(T38:V38),"") | AA38: =IFERROR(AVERAGE(X38:Z38),"") | AE38: =IFERROR(AVERAGE(AB38:AD38),"") | AI38: =IFERROR(AVERAGE(AF38:AH38),"") | AM38: =IFERROR(AVERAGE(AJ38:AL38),"") | AQ38: =IFERROR(AVERAGE(AN38:AP38),"")
A39: 33 | G39: =IFERROR(AVERAGE(D39:F39),"") | K39: =IFERROR(AVERAGE(H39:J39),"") | O39: =IFERROR(AVERAGE(L39:N39),"") | S39: =IFERROR(AVERAGE(P39:R39),"") | W39: =IFERROR(AVERAGE(T39:V39),"") | AA39: =IFERROR(AVERAGE(X39:Z39),"") | AE39: =IFERROR(AVERAGE(AB39:AD39),"") | AI39: =IFERROR(AVERAGE(AF39:AH39),"") | AM39: =IFERROR(AVERAGE(AJ39:AL39),"") | AQ39: =IFERROR(AVERAGE(AN39:AP39),"")
A40: 34 | G40: =IFERROR(AVERAGE(D40:F40),"") | K40: =IFERROR(AVERAGE(H40:J40),"") | O40: =IFERROR(AVERAGE(L40:N40),"") | S40: =IFERROR(AVERAGE(P40:R40),"") | W40: =IFERROR(AVERAGE(T40:V40),"") | AA40: =IFERROR(AVERAGE(X40:Z40),"") | AE40: =IFERROR(AVERAGE(AB40:AD40),"") | AI40: =IFERROR(AVERAGE(AF40:AH40),"") | AM40: =IFERROR(AVERAGE(AJ40:AL40),"") | AQ40: =IFERROR(AVERAGE(AN40:AP40),"")
A41: 35 | G41: =IFERROR(AVERAGE(D41:F41),"") | K41: =IFERROR(AVERAGE(H41:J41),"") | O41: =IFERROR(AVERAGE(L41:N41),"") | S41: =IFERROR(AVERAGE(P41:R41),"") | W41: =IFERROR(AVERAGE(T41:V41),"") | AA41: =IFERROR(AVERAGE(X41:Z41),"") | AE41: =IFERROR(AVERAGE(AB41:AD41),"") | AI41: =IFERROR(AVERAGE(AF41:AH41),"") | AM41: =IFERROR(AVERAGE(AJ41:AL41),"") | AQ41: =IFERROR(AVERAGE(AN41:AP41),"")
A42: 36 | G42: =IFERROR(AVERAGE(D42:F42),"") | K42: =IFERROR(AVERAGE(H42:J42),"") | O42: =IFERROR(AVERAGE(L42:N42),"") | S42: =IFERROR(AVERAGE(P42:R42),"") | W42: =IFERROR(AVERAGE(T42:V42),"") | AA42: =IFERROR(AVERAGE(X42:Z42),"") | AE42: =IFERROR(AVERAGE(AB42:AD42),"") | AI42: =IFERROR(AVERAGE(AF42:AH42),"") | AM42: =IFERROR(AVERAGE(AJ42:AL42),"") | AQ42: =IFERROR(AVERAGE(AN42:AP42),"")
C45: Mengetahui | AK45: ................................................................................2019
C46: Kepala Sekolah
AK47: Guru Kelas 1
C51: TATANG KUSDIANA, S.Pd.,M.Pd.
C52: NIP. 19601205 198201 1 004 | AK52: =cOVER!I19 -> WEBSITEEDUKASI.COM
AK53: ="NIP" &cOVER!I20 -> NIP19880420 201409 0 000

Sheet T5ST2
A1: DAFTAR NILAI KELAS 1 SEMESTER 2
A2: TEMA 5 SUB TEMA 2
A4: NO | B4: NISN | C4: NAMA SISWA | D4: PKN | L4: B. INDO | T4: MTK | AB4: PJOK | AJ4: SBDP
D5: KD 3.2 | H5: KD 4.2 | L5: KD 3.8 | P5: KD 4.8 | T5: KD 3.2 | X5: KD 4.2 | AB5: KD 3.5 | AF5: KD 4.5 | AJ5: KD 3.3 | AN5: KD 4.3
D6: Tls | E6: Lsn | F6: Tgs | G6: RT | H6: Prkt | I6: Prod | J6: Pryk | K6: RT | L6: Tls | M6: Lsn | N6: Tgs | O6: RT | P6: Prkt | Q6: Prod | R6: Pryk | S6: RT | T6: Tls | U6: Lsn | V6: Tgs | W6: RT | X6: Prkt | Y6: Prod | Z6: Pryk | AA6: RT | AB6: Tls | AC6: Lsn | AD6: Tgs | AE6: RT | AF6: Prkt | AG6: Prod | AH6: Pryk | AI6: RT | AJ6: Tls | AK6: Lsn | AL6: Tgs | AM6: RT | AN6: Prkt | AO6: Prod | AP6: Pryk | AQ6: RT
A7: =T5ST1!A7 -> 1 | B7: =T5ST1!B7 -> 0 | C7: =T5ST1!C7 -> ARI RUSWANDANA | G7: =IFERROR(AVERAGE(D7:F7),"") | K7: =IFERROR(AVERAGE(H7:J7),"") | O7: =IFERROR(AVERAGE(L7:N7),"") | S7: =IFERROR(AVERAGE(P7:R7),"") | W7: =IFERROR(AVERAGE(T7:V7),"") | AA7: =IFERROR(AVERAGE(X7:Z7),"") | AE7: =IFERROR(AVERAGE(AB7:AD7),"") | AI7: =IFERROR(AVERAGE(AF7:AH7),"") | AM7: =IFERROR(AVERAGE(AJ7:AL7),"") | AQ7: =IFERROR(AVERAGE(AN7:AP7),"")
A8: =T5ST1!A8 -> 2 | B8: =T5ST1!B8 -> 0 | C8: =T5ST1!C8 -> ADAM FADILAH HATMAJI | G8: =IFERROR(AVERAGE(D8:F8),"") | K8: =IFERROR(AVERAGE(H8:J8),"") | O8: =IFERROR(AVERAGE(L8:N8),"") | S8: =IFERROR(AVERAGE(P8:R8),"") | W8: =IFERROR(AVERAGE(T8:V8),"") | AA8: =IFERROR(AVERAGE(X8:Z8),"") | AE8: =IFERROR(AVERAGE(AB8:AD8),"") | AI8: =IFERROR(AVERAGE(AF8:AH8),"") | AM8: =IFERROR(AVERAGE(AJ8:AL8),"") | AQ8: =IFERROR(AVERAGE(AN8:AP8),"")
A9: =T5ST1!A9 -> 3 | B9: =T5ST1!B9 -> 0 | C9: =T5ST1!C9 -> AJRIL BILUTFILLAHIL MUNIR | G9: =IFERROR(AVERAGE(D9:F9),"") | K9: =IFERROR(AVERAGE(H9:J9),"") | O9: =IFERROR(AVERAGE(L9:N9),"") | S9: =IFERROR(AVERAGE(P9:R9),"") | W9: =IFERROR(AVERAGE(T9:V9),"") | AA9: =IFERROR(AVERAGE(X9:Z9),"") | AE9: =IFERROR(AVERAGE(AB9:AD9),"") | AI9: =IFERROR(AVERAGE(AF9:AH9),"") | AM9: =IFERROR(AVERAGE(AJ9:AL9),"") | AQ9: =IFERROR(AVERAGE(AN9:AP9),"")
A10: =T5ST1!A10 -> 4 | B10: =T5ST1!B10 -> 0 | C10: =T5ST1!C10 -> ALDIANSYAH | G10: =IFERROR(AVERAGE(D10:F10),"") | K10: =IFERROR(AVERAGE(H10:J10),"") | O10: =IFERROR(AVERAGE(L10:N10),"") | S10: =IFERROR(AVERAGE(P10:R10),"") | W10: =IFERROR(AVERAGE(T10:V10),"") | AA10: =IFERROR(AVERAGE(X10:Z10),"") | AE10: =IFERROR(AVERAGE(AB10:AD10),"") | AI10: =IFERROR(AVERAGE(AF10:AH10),"") | AM10: =IFERROR(AVERAGE(AJ10:AL10),"") | AQ10: =IFERROR(AVERAGE(AN10:AP10),"")
A11: =T5ST1!A11 -> 5 | B11: =T5ST1!B11 -> 0 | C11: =T5ST1!C11 -> ANDINI RAHMAWATI | G11: =IFERROR(AVERAGE(D11:F11),"") | K11: =IFERROR(AVERAGE(H11:J11),"") | O11: =IFERROR(AVERAGE(L11:N11),"") | S11: =IFERROR(AVERAGE(P11:R11),"") | W11: =IFERROR(AVERAGE(T11:V11),"") | AA11: =IFERROR(AVERAGE(X11:Z11),"") | AE11: =IFERROR(AVERAGE(AB11:AD11),"") | AI11: =IFERROR(AVERAGE(AF11:AH11),"") | AM11: =IFERROR(AVERAGE(AJ11:AL11),"") | AQ11: =IFERROR(AVERAGE(AN11:AP11),"")
A12: =T5ST1!A12 -> 6 | B12: =T5ST1!B12 -> 0 | C12: =T5ST1!C12 -> ANEU ZAHROTUL MUNA | G12: =IFERROR(AVERAGE(D12:F12),"") | K12: =IFERROR(AVERAGE(H12:J12),"") | O12: =IFERROR(AVERAGE(L12:N12),"") | S12: =IFERROR(AVERAGE(P12:R12),"") | W12: =IFERROR(AVERAGE(T12:V12),"") | AA12: =IFERROR(AVERAGE(X12:Z12),"") | AE12: =IFERROR(AVERAGE(AB12:AD12),"") | AI12: =IFERROR(AVERAGE(AF12:AH12),"") | AM12: =IFERROR(AVERAGE(AJ12:AL12),"") | AQ12: =IFERROR(AVERAGE(AN12:AP12),"")
A13: =T5ST1!A13 -> 7 | B13: =T5ST1!B13 -> 0 | C13: =T5ST1!C13 -> ANISA NURSAHIDAH | G13: =IFERROR(AVERAGE(D13:F13),"") | K13: =IFERROR(AVERAGE(H13:J13),"") | O13: =IFERROR(AVERAGE(L13:N13),"") | S13: =IFERROR(AVERAGE(P13:R13),"") | W13: =IFERROR(AVERAGE(T13:V13),"") | AA13: =IFERROR(AVERAGE(X13:Z13),"") | AE13: =IFERROR(AVERAGE(AB13:AD13),"") | AI13: =IFERROR(AVERAGE(AF13:AH13),"") | AM13: =IFERROR(AVERAGE(AJ13:AL13),"") | AQ13: =IFERROR(AVERAGE(AN13:AP13),"")
A14: =T5ST1!A14 -> 8 | B14: =T5ST1!B14 -> 0 | C14: =T5ST1!C14 -> ARYA RHAMDAN | G14: =IFERROR(AVERAGE(D14:F14),"") | K14: =IFERROR(AVERAGE(H14:J14),"") | O14: =IFERROR(AVERAGE(L14:N14),"") | S14: =IFERROR(AVERAGE(P14:R14),"") | W14: =IFERROR(AVERAGE(T14:V14),"") | AA14: =IFERROR(AVERAGE(X14:Z14),"") | AE14: =IFERROR(AVERAGE(AB14:AD14),"") | AI14: =IFERROR(AVERAGE(AF14:AH14),"") | AM14: =IFERROR(AVERAGE(AJ14:AL14),"") | AQ14: =IFERROR(AVERAGE(AN14:AP14),"")
A15: =T5ST1!A15 -> 9 | B15: =T5ST1!B15 -> 0 | C15: =T5ST1!C15 -> AZMI RIHADATUL AISY | G15: =IFERROR(AVERAGE(D15:F15),"") | K15: =IFERROR(AVERAGE(H15:J15),"") | O15: =IFERROR(AVERAGE(L15:N15),"") | S15: =IFERROR(AVERAGE(P15:R15),"") | W15: =IFERROR(AVERAGE(T15:V15),"") | AA15: =IFERROR(AVERAGE(X15:Z15),"") | AE15: =IFERROR(AVERAGE(AB15:AD15),"") | AI15: =IFERROR(AVERAGE(AF15:AH15),"") | AM15: =IFERROR(AVERAGE(AJ15:AL15),"") | AQ15: =IFERROR(AVERAGE(AN15:AP15),"")
A16: =T5ST1!A16 -> 10 | B16: =T5ST1!B16 -> 0 | C16: =T5ST1!C16 -> DARIS DARMAWAN | G16: =IFERROR(AVERAGE(D16:F16),"") | K16: =IFERROR(AVERAGE(H16:J16),"") | O16: =IFERROR(AVERAGE(L16:N16),"") | S16: =IFERROR(AVERAGE(P16:R16),"") | W16: =IFERROR(AVERAGE(T16:V16),"") | AA16: =IFERROR(AVERAGE(X16:Z16),"") | AE16: =IFERROR(AVERAGE(AB16:AD16),"") | AI16: =IFERROR(AVERAGE(AF16:AH16),"") | AM16: =IFERROR(AVERAGE(AJ16:AL16),"") | AQ16: =IFERROR(AVERAGE(AN16:AP16),"")
A17: =T5ST1!A17 -> 11 | B17: =T5ST1!B17 -> 0 | C17: =T5ST1!C17 -> DINA NOPITASARI | G17: =IFERROR(AVERAGE(D17:F17),"") | K17: =IFERROR(AVERAGE(H17:J17),"") | O17: =IFERROR(AVERAGE(L17:N17),"") | S17: =IFERROR(AVERAGE(P17:R17),"") | W17: =IFERROR(AVERAGE(T17:V17),"") | AA17: =IFERROR(AVERAGE(X17:Z17),"") | AE17: =IFERROR(AVERAGE(AB17:AD17),"") | AI17: =IFERROR(AVERAGE(AF17:AH17),"") | AM17: =IFERROR(AVERAGE(AJ17:AL17),"") | AQ17: =IFERROR(AVERAGE(AN17:AP17),"")
A18: =T5ST1!A18 -> 12 | B18: =T5ST1!B18 -> 0 | C18: =T5ST1!C18 -> FAHRUL ZAELANI | G18: =IFERROR(AVERAGE(D18:F18),"") | K18: =IFERROR(AVERAGE(H18:J18),"") | O18: =IFERROR(AVERAGE(L18:N18),"") | S18: =IFERROR(AVERAGE(P18:R18),"") | W18: =IFERROR(AVERAGE(T18:V18),"") | AA18: =IFERROR(AVERAGE(X18:Z18),"") | AE18: =IFERROR(AVERAGE(AB18:AD18),"") | AI18: =IFERROR(AVERAGE(AF18:AH18),"") | AM18: =IFERROR(AVERAGE(AJ18:AL18),"") | AQ18: =IFERROR(AVERAGE(AN18:AP18),"")
... A32: =T5ST1!A32 -> 26 | B32: =T5ST1!B32 -> 0 | C32: =T5ST1!C32 -> YASA FITRONI | G32: =IFERROR(AVERAGE(D32:F32),"") | K32: =IFERROR(AVERAGE(H32:J32),"") | O32: =IFERROR(AVERAGE(L32:N32),"") | S32: =IFERROR(AVERAGE(P32:R32),"") | W32: =IFERROR(AVERAGE(T32:V32),"") | AA32: =IFERROR(AVERAGE(X32:Z32),"") | AE32: =IFERROR(AVERAGE(AB32:AD32),"") | AI32: =IFERROR(AVERAGE(AF32:AH32),"") | AM32: =IFERROR(AVERAGE(AJ32:AL32),"") | AQ32: =IFERROR(AVERAGE(AN32:AP32),"")
A33: 27 | G33: =IFERROR(AVERAGE(D33:F33),"") | K33: =IFERROR(AVERAGE(H33:J33),"") | O33: =IFERROR(AVERAGE(L33:N33),"") | S33: =IFERROR(AVERAGE(P33:R33),"") | W33: =IFERROR(AVERAGE(T33:V33),"") | AA33: =IFERROR(AVERAGE(X33:Z33),"") | AE33: =IFERROR(AVERAGE(AB33:AD33),"") | AI33: =IFERROR(AVERAGE(AF33:AH33),"") | AM33: =IFERROR(AVERAGE(AJ33:AL33),"") | AQ33: =IFERROR(AVERAGE(AN33:AP33),"")
AK36: ................................................................................2019
C37: Mengetahui
C38: Kepala Sekolah | AK38: Guru Kelas 1
C43: =T5ST1!C51 -> TATANG KUSDIANA, S.Pd.,M.Pd. | AK43: =T5ST1!AK52 -> WEBSITEEDUKASI.COM
C44: =T5ST1!C52 -> NIP. 19601205 198201 1 004 | AK44: =T5ST1!AK53 -> NIP19880420 201409 0 000

Sheet T5ST3
A1: DAFTAR NILAI KELAS 1 SEMESTER 2
A2: TEMA 5 SUB TEMA 3
A4: NO | B4: NISN | C4: NAMA SISWA | D4: PKN | L4: B. INDO | T4: MATEMATIKA | AB4: PJOK | AJ4: SBDP
D5: KD 3.3 | H5: KD 4.3 | L5: KD 3.8 | P5: KD 4.8 | T5: KD 3.3 | X5: KD 4.3 | AB5: KD 3.5 | AF5: KD 4.5 | AJ5: KD 3.1 | AN5: KD 4.1
D6: Tls | E6: Lsn | F6: Tgs | G6: RT | H6: Prkt | I6: Prod | J6: Pryk | K6: RT | L6: Tls | M6: Lsn | N6: Tgs | O6: RT | P6: Prkt | Q6: Prod | R6: Pryk | S6: RT | T6: Tls | U6: Lsn | V6: Tgs | W6: RT | X6: Prkt | Y6: Prod | Z6: Pryk | AA6: RT | AB6: Tls | AC6: Lsn | AD6: Tgs | AE6: RT | AF6: Prkt | AG6: Prod | AH6: Pryk | AI6: RT | AJ6: Tls | AK6: Lsn | AL6: Tgs | AM6: RT | AN6: Prkt | AO6: Prod | AP6: Pryk | AQ6: RT
A7: =T5ST1!A7 -> 1 | B7: =T5ST1!B7 -> 0 | C7: =T5ST1!C7 -> ARI RUSWANDANA | G7: =IFERROR(AVERAGE(D7:F7),"") | K7: =IFERROR(AVERAGE(H7:J7),"") | O7: =IFERROR(AVERAGE(L7:N7),"") | S7: =IFERROR(AVERAGE(P7:R7),"") | W7: =IFERROR(AVERAGE(T7:V7),"") | AA7: =IFERROR(AVERAGE(X7:Z7),"") | AE7: =IFERROR(AVERAGE(AB7:AD7),"") | AI7: =IFERROR(AVERAGE(AF7:AH7),"") | AM7: =IFERROR(AVERAGE(AJ7:AL7),"") | AQ7: =IFERROR(AVERAGE(AN7:AP7),"")
A8: =T5ST1!A8 -> 2 | B8: =T5ST1!B8 -> 0 | C8: =T5ST1!C8 -> ADAM FADILAH HATMAJI | G8: =IFERROR(AVERAGE(D8:F8),"") | K8: =IFERROR(AVERAGE(H8:J8),"") | O8: =IFERROR(AVERAGE(L8:N8),"") | S8: =IFERROR(AVERAGE(P8:R8),"") | W8: =IFERROR(AVERAGE(T8:V8),"") | AA8: =IFERROR(AVERAGE(X8:Z8),"") | AE8: =IFERROR(AVERAGE(AB8:AD8),"") | AI8: =IFERROR(AVERAGE(AF8:AH8),"") | AM8: =IFERROR(AVERAGE(AJ8:AL8),"") | AQ8: =IFERROR(AVERAGE(AN8:AP8),"")
A9: =T5ST1!A9 -> 3 | B9: =T5ST1!B9 -> 0 | C9: =T5ST1!C9 -> AJRIL BILUTFILLAHIL MUNIR | G9: =IFERROR(AVERAGE(D9:F9),"") | K9: =IFERROR(AVERAGE(H9:J9),"") | O9: =IFERROR(AVERAGE(L9:N9),"") | S9: =IFERROR(AVERAGE(P9:R9),"") | W9: =IFERROR(AVERAGE(T9:V9),"") | AA9: =IFERROR(AVERAGE(X9:Z9),"") | AE9: =IFERROR(AVERAGE(AB9:AD9),"") | AI9: =IFERROR(AVERAGE(AF9:AH9),"") | AM9: =IFERROR(AVERAGE(AJ9:AL9),"") | AQ9: =IFERROR(AVERAGE(AN9:AP9),"")
A10: =T5ST1!A10 -> 4 | B10: =T5ST1!B10 -> 0 | C10: =T5ST1!C10 -> ALDIANSYAH | G10: =IFERROR(AVERAGE(D10:F10),"") | K10: =IFERROR(AVERAGE(H10:J10),"") | O10: =IFERROR(AVERAGE(L10:N10),"") | S10: =IFERROR(AVERAGE(P10:R10),"") | W10: =IFERROR(AVERAGE(T10:V10),"") | AA10: =IFERROR(AVERAGE(X10:Z10),"") | AE10: =IFERROR(AVERAGE(AB10:AD10),"") | AI10: =IFERROR(AVERAGE(AF10:AH10),"") | AM10: =IFERROR(AVERAGE(AJ10:AL10),"") | AQ10: =IFERROR(AVERAGE(AN10:AP10),"")
A11: =T5ST1!A11 -> 5 | B11: =T5ST1!B11 -> 0 | C11: =T5ST1!C11 -> ANDINI RAHMAWATI | G11: =IFERROR(AVERAGE(D11:F11),"") | K11: =IFERROR(AVERAGE(H11:J11),"") | O11: =IFERROR(AVERAGE(L11:N11),"") | S11: =IFERROR(AVERAGE(P11:R11),"") | W11: =IFERROR(AVERAGE(T11:V11),"") | AA11: =IFERROR(AVERAGE(X11:Z11),"") | AE11: =IFERROR(AVERAGE(AB11:AD11),"") | AI11: =IFERROR(AVERAGE(AF11:AH11),"") | AM11: =IFERROR(AVERAGE(AJ11:AL11),"") | AQ11: =IFERROR(AVERAGE(AN11:AP11),"")
A12: =T5ST1!A12 -> 6 | B12: =T5ST1!B12 -> 0 | C12: =T5ST1!C12 -> ANEU ZAHROTUL MUNA | G12: =IFERROR(AVERAGE(D12:F12),"") | K12: =IFERROR(AVERAGE(H12:J12),"") | O12: =IFERROR(AVERAGE(L12:N12),"") | S12: =IFERROR(AVERAGE(P12:R12),"") | W12: =IFERROR(AVERAGE(T12:V12),"") | AA12: =IFERROR(AVERAGE(X12:Z12),"") | AE12: =IFERROR(AVERAGE(AB12:AD12),"") | AI12: =IFERROR(AVERAGE(AF12:AH12),"") | AM12: =IFERROR(AVERAGE(AJ12:AL12),"") | AQ12: =IFERROR(AVERAGE(AN12:AP12),"")
A13: =T5ST1!A13 -> 7 | B13: =T5ST1!B13 -> 0 | C13: =T5ST1!C13 -> ANISA NURSAHIDAH | G13: =IFERROR(AVERAGE(D13:F13),"") | K13: =IFERROR(AVERAGE(H13:J13),"") | O13: =IFERROR(AVERAGE(L13:N13),"") | S13: =IFERROR(AVERAGE(P13:R13),"") | W13: =IFERROR(AVERAGE(T13:V13),"") | AA13: =IFERROR(AVERAGE(X13:Z13),"") | AE13: =IFERROR(AVERAGE(AB13:AD13),"") | AI13: =IFERROR(AVERAGE(AF13:AH13),"") | AM13: =IFERROR(AVERAGE(AJ13:AL13),"") | AQ13: =IFERROR(AVERAGE(AN13:AP13),"")
A14: =T5ST1!A14 -> 8 | B14: =T5ST1!B14 -> 0 | C14: =T5ST1!C14 -> ARYA RHAMDAN | G14: =IFERROR(AVERAGE(D14:F14),"") | K14: =IFERROR(AVERAGE(H14:J14),"") | O14: =IFERROR(AVERAGE(L14:N14),"") | S14: =IFERROR(AVERAGE(P14:R14),"") | W14: =IFERROR(AVERAGE(T14:V14),"") | AA14: =IFERROR(AVERAGE(X14:Z14),"") | AE14: =IFERROR(AVERAGE(AB14:AD14),"") | AI14: =IFERROR(AVERAGE(AF14:AH14),"") | AM14: =IFERROR(AVERAGE(AJ14:AL14),"") | AQ14: =IFERROR(AVERAGE(AN14:AP14),"")
A15: =T5ST1!A15 -> 9 | B15: =T5ST1!B15 -> 0 | C15: =T5ST1!C15 -> AZMI RIHADATUL AISY | G15: =IFERROR(AVERAGE(D15:F15),"") | K15: =IFERROR(AVERAGE(H15:J15),"") | O15: =IFERROR(AVERAGE(L15:N15),"") | S15: =IFERROR(AVERAGE(P15:R15),"") | W15: =IFERROR(AVERAGE(T15:V15),"") | AA15: =IFERROR(AVERAGE(X15:Z15),"") | AE15: =IFERROR(AVERAGE(AB15:AD15),"") | AI15: =IFERROR(AVERAGE(AF15:AH15),"") | AM15: =IFERROR(AVERAGE(AJ15:AL15),"") | AQ15: =IFERROR(AVERAGE(AN15:AP15),"")
A16: =T5ST1!A16 -> 10 | B16: =T5ST1!B16 -> 0 | C16: =T5ST1!C16 -> DARIS DARMAWAN | G16: =IFERROR(AVERAGE(D16:F16),"") | K16: =IFERROR(AVERAGE(H16:J16),"") | O16: =IFERROR(AVERAGE(L16:N16),"") | S16: =IFERROR(AVERAGE(P16:R16),"") | W16: =IFERROR(AVERAGE(T16:V16),"") | AA16: =IFERROR(AVERAGE(X16:Z16),"") | AE16: =IFERROR(AVERAGE(AB16:AD16),"") | AI16: =IFERROR(AVERAGE(AF16:AH16),"") | AM16: =IFERROR(AVERAGE(AJ16:AL16),"") | AQ16: =IFERROR(AVERAGE(AN16:AP16),"")
A17: =T5ST1!A17 -> 11 | B17: =T5ST1!B17 -> 0 | C17: =T5ST1!C17 -> DINA NOPITASARI | G17: =IFERROR(AVERAGE(D17:F17),"") | K17: =IFERROR(AVERAGE(H17:J17),"") | O17: =IFERROR(AVERAGE(L17:N17),"") | S17: =IFERROR(AVERAGE(P17:R17),"") | W17: =IFERROR(AVERAGE(T17:V17),"") | AA17: =IFERROR(AVERAGE(X17:Z17),"") | AE17: =IFERROR(AVERAGE(AB17:AD17),"") | AI17: =IFERROR(AVERAGE(AF17:AH17),"") | AM17: =IFERROR(AVERAGE(AJ17:AL17),"") | AQ17: =IFERROR(AVERAGE(AN17:AP17),"")
A18: =T5ST1!A18 -> 12 | B18: =T5ST1!B18 -> 0 | C18: =T5ST1!C18 -> FAHRUL ZAELANI | G18: =IFERROR(AVERAGE(D18:F18),"") | K18: =IFERROR(AVERAGE(H18:J18),"") | O18: =IFERROR(AVERAGE(L18:N18),"") | S18: =IFERROR(AVERAGE(P18:R18),"") | W18: =IFERROR(AVERAGE(T18:V18),"") | AA18: =IFERROR(AVERAGE(X18:Z18),"") | AE18: =IFERROR(AVERAGE(AB18:AD18),"") | AI18: =IFERROR(AVERAGE(AF18:AH18),"") | AM18: =IFERROR(AVERAGE(AJ18:AL18),"") | AQ18: =IFERROR(AVERAGE(AN18:AP18),"")
... A32: =T5ST1!A32 -> 26 | B32: =T5ST1!B32 -> 0 | C32: =T5ST1!C32 -> YASA FITRONI | G32: =IFERROR(AVERAGE(D32:F32),"") | K32: =IFERROR(AVERAGE(H32:J32),"") | O32: =IFERROR(AVERAGE(L32:N32),"") | S32: =IFERROR(AVERAGE(P32:R32),"") | W32: =IFERROR(AVERAGE(T32:V32),"") | AA32: =IFERROR(AVERAGE(X32:Z32),"") | AE32: =IFERROR(AVERAGE(AB32:AD32),"") | AI32: =IFERROR(AVERAGE(AF32:AH32),"") | AM32: =IFERROR(AVERAGE(AJ32:AL32),"") | AQ32: =IFERROR(AVERAGE(AN32:AP32),"")
A33: 27 | G33: =IFERROR(AVERAGE(D33:F33),"") | K33: =IFERROR(AVERAGE(H33:J33),"") | O33: =IFERROR(AVERAGE(L33:N33),"") | S33: =IFERROR(AVERAGE(P33:R33),"") | W33: =IFERROR(AVERAGE(T33:V33),"") | AA33: =IFERROR(AVERAGE(X33:Z33),"") | AE33: =IFERROR(AVERAGE(AB33:AD33),"") | AI33: =IFERROR(AVERAGE(AF33:AH33),"") | AM33: =IFERROR(AVERAGE(AJ33:AL33),"") | AQ33: =IFERROR(AVERAGE(AN33:AP33),"")
C37: Mengetahui | AJ37: ................................................................................2019
C38: Kepala Sekolah | AJ38: Guru Kelas 1
C43: Tatang Kusdiana, S.Pd.,M.Pd. | AJ43: =T5ST2!AK43 -> WEBSITEEDUKASI.COM
C44: NIP. 19601205 198201 1 004 | AJ44: =T5ST2!AK44 -> NIP19880420 201409 0 000

Sheet T5ST4
A1: DAFTAR NILAI KELAS 1 SEMESTER 2
A2: TEMA 5 SUB TEMA 4
A4: NO | B4: NISN | C4: NAMA SISWA | D4: PKN | L4: B. INDO | T4: MATEMATIKA | AB4: PJOK | AJ4: SBDP
D5: KD 3.5 | H5: KD 4.5 | L5: KD 3.11 | P5: KD 4.11 | T5: KD 3.4 | X5: KD 4.4 | AB5: KD 3.5 | AF5: KD 4.5 | AJ5: KD 3.4 | AN5: KD 4.4
D6: Tls | E6: Lsn | F6: Tgs | G6: RT | H6: Prkt | I6: Prod | J6: Pryk | K6: RT | L6: Tls | M6: Lsn | N6: Tgs | O6: RT | P6: Prkt | Q6: Prod | R6: Pryk | S6: RT | T6: Tls | U6: Lsn | V6: Tgs | W6: RT | X6: Prkt | Y6: Prod | Z6: Pryk | AA6: RT | AB6: Tls | AC6: Lsn | AD6: Tgs | AE6: RT | AF6: Prkt | AG6: Prod | AH6: Pryk | AI6: RT | AJ6: Tls | AK6: Lsn | AL6: Tgs | AM6: RT | AN6: Prkt | AO6: Prod | AP6: Pryk | AQ6: RT
A7: =T5ST1!A7 -> 1 | B7: =T5ST1!B7 -> 0 | C7: =T5ST1!C7 -> ARI RUSWANDANA | G7: =IFERROR(AVERAGE(D7:F7),"") | K7: =IFERROR(AVERAGE(H7:J7),"") | O7: =IFERROR(AVERAGE(L7:N7),"") | S7: =IFERROR(AVERAGE(P7:R7),"") | W7: =IFERROR(AVERAGE(T7:V7),"") | AA7: =IFERROR(AVERAGE(X7:Z7),"") | AE7: =IFERROR(AVERAGE(AB7:AD7),"") | AM7: =IFERROR(AVERAGE(AJ7:AL7),"") | AQ7: =IFERROR(AVERAGE(AN7:AP7),"")
A8: =T5ST1!A8 -> 2 | B8: =T5ST1!B8 -> 0 | C8: =T5ST1!C8 -> ADAM FADILAH HATMAJI | G8: =IFERROR(AVERAGE(D8:F8),"") | K8: =IFERROR(AVERAGE(H8:J8),"") | O8: =IFERROR(AVERAGE(L8:N8),"") | S8: =IFERROR(AVERAGE(P8:R8),"") | W8: =IFERROR(AVERAGE(T8:V8),"") | AA8: =IFERROR(AVERAGE(X8:Z8),"") | AE8: =IFERROR(AVERAGE(AB8:AD8),"") | AM8: =IFERROR(AVERAGE(AJ8:AL8),"") | AQ8: =IFERROR(AVERAGE(AN8:AP8),"")
A9: =T5ST1!A9 -> 3 | B9: =T5ST1!B9 -> 0 | C9: =T5ST1!C9 -> AJRIL BILUTFILLAHIL MUNIR | G9: =IFERROR(AVERAGE(D9:F9),"") | K9: =IFERROR(AVERAGE(H9:J9),"") | O9: =IFERROR(AVERAGE(L9:N9),"") | S9: =IFERROR(AVERAGE(P9:R9),"") | W9: =IFERROR(AVERAGE(T9:V9),"") | AA9: =IFERROR(AVERAGE(X9:Z9),"") | AE9: =IFERROR(AVERAGE(AB9:AD9),"") | AM9: =IFERROR(AVERAGE(AJ9:AL9),"") | AQ9: =IFERROR(AVERAGE(AN9:AP9),"")
A10: =T5ST1!A10 -> 4 | B10: =T5ST1!B10 -> 0 | C10: =T5ST1!C10 -> ALDIANSYAH | G10: =IFERROR(AVERAGE(D10:F10),"") | K10: =IFERROR(AVERAGE(H10:J10),"") | O10: =IFERROR(AVERAGE(L10:N10),"") | S10: =IFERROR(AVERAGE(P10:R10),"") | W10: =IFERROR(AVERAGE(T10:V10),"") | AA10: =IFERROR(AVERAGE(X10:Z10),"") | AE10: =IFERROR(AVERAGE(AB10:AD10),"") | AM10: =IFERROR(AVERAGE(AJ10:AL10),"") | AQ10: =IFERROR(AVERAGE(AN10:AP10),"")
A11: =T5ST1!A11 -> 5 | B11: =T5ST1!B11 -> 0 | C11: =T5ST1!C11 -> ANDINI RAHMAWATI | G11: =IFERROR(AVERAGE(D11:F11),"") | K11: =IFERROR(AVERAGE(H11:J11),"") | O11: =IFERROR(AVERAGE(L11:N11),"") | S11: =IFERROR(AVERAGE(P11:R11),"") | W11: =IFERROR(AVERAGE(T11:V11),"") | AA11: =IFERROR(AVERAGE(X11:Z11),"") | AE11: =IFERROR(AVERAGE(AB11:AD11),"") | AM11: =IFERROR(AVERAGE(AJ11:AL11),"") | AQ11: =IFERROR(AVERAGE(AN11:AP11),"")
A12: =T5ST1!A12 -> 6 | B12: =T5ST1!B12 -> 0 | C12: =T5ST1!C12 -> ANEU ZAHROTUL MUNA | G12: =IFERROR(AVERAGE(D12:F12),"") | K12: =IFERROR(AVERAGE(H12:J12),"") | O12: =IFERROR(AVERAGE(L12:N12),"") | S12: =IFERROR(AVERAGE(P12:R12),"") | W12: =IFERROR(AVERAGE(T12:V12),"") | AA12: =IFERROR(AVERAGE(X12:Z12),"") | AE12: =IFERROR(AVERAGE(AB12:AD12),"") | AM12: =IFERROR(AVERAGE(AJ12:AL12),"") | AQ12: =IFERROR(AVERAGE(AN12:AP12),"")
A13: =T5ST1!A13 -> 7 | B13: =T5ST1!B13 -> 0 | C13: =T5ST1!C13 -> ANISA NURSAHIDAH | G13: =IFERROR(AVERAGE(D13:F13),"") | K13: =IFERROR(AVERAGE(H13:J13),"") | O13: =IFERROR(AVERAGE(L13:N13),"") | S13: =IFERROR(AVERAGE(P13:R13),"") | W13: =IFERROR(AVERAGE(T13:V13),"") | AA13: =IFERROR(AVERAGE(X13:Z13),"") | AE13: =IFERROR(AVERAGE(AB13:AD13),"") | AM13: =IFERROR(AVERAGE(AJ13:AL13),"") | AQ13: =IFERROR(AVERAGE(AN13:AP13),"")
A14: =T5ST1!A14 -> 8 | B14: =T5ST1!B14 -> 0 | C14: =T5ST1!C14 -> ARYA RHAMDAN | G14: =IFERROR(AVERAGE(D14:F14),"") | K14: =IFERROR(AVERAGE(H14:J14),"") | O14: =IFERROR(AVERAGE(L14:N14),"") | S14: =IFERROR(AVERAGE(P14:R14),"") | W14: =IFERROR(AVERAGE(T14:V14),"") | AA14: =IFERROR(AVERAGE(X14:Z14),"") | AE14: =IFERROR(AVERAGE(AB14:AD14),"") | AM14: =IFERROR(AVERAGE(AJ14:AL14),"") | AQ14: =IFERROR(AVERAGE(AN14:AP14),"")
A15: =T5ST1!A15 -> 9 | B15: =T5ST1!B15 -> 0 | C15: =T5ST1!C15 -> AZMI RIHADATUL AISY | G15: =IFERROR(AVERAGE(D15:F15),"") | K15: =IFERROR(AVERAGE(H15:J15),"") | O15: =IFERROR(AVERAGE(L15:N15),"") | S15: =IFERROR(AVERAGE(P15:R15),"") | W15: =IFERROR(AVERAGE(T15:V15),"") | AA15: =IFERROR(AVERAGE(X15:Z15),"") | AE15: =IFERROR(AVERAGE(AB15:AD15),"") | AM15: =IFERROR(AVERAGE(AJ15:AL15),"") | AQ15: =IFERROR(AVERAGE(AN15:AP15),"")
A16: =T5ST1!A16 -> 10 | B16: =T5ST1!B16 -> 0 | C16: =T5ST1!C16 -> DARIS DARMAWAN | G16: =IFERROR(AVERAGE(D16:F16),"") | K16: =IFERROR(AVERAGE(H16:J16),"") | O16: =IFERROR(AVERAGE(L16:N16),"") | S16: =IFERROR(AVERAGE(P16:R16),"") | W16: =IFERROR(AVERAGE(T16:V16),"") | AA16: =IFERROR(AVERAGE(X16:Z16),"") | AE16: =IFERROR(AVERAGE(AB16:AD16),"") | AM16: =IFERROR(AVERAGE(AJ16:AL16),"") | AQ16: =IFERROR(AVERAGE(AN16:AP16),"")
A17: =T5ST1!A17 -> 11 | B17: =T5ST1!B17 -> 0 | C17: =T5ST1!C17 -> DINA NOPITASARI | G17: =IFERROR(AVERAGE(D17:F17),"") | K17: =IFERROR(AVERAGE(H17:J17),"") | O17: =IFERROR(AVERAGE(L17:N17),"") | S17: =IFERROR(AVERAGE(P17:R17),"") | W17: =IFERROR(AVERAGE(T17:V17),"") | AA17: =IFERROR(AVERAGE(X17:Z17),"") | AE17: =IFERROR(AVERAGE(AB17:AD17),"") | AM17: =IFERROR(AVERAGE(AJ17:AL17),"") | AQ17: =IFERROR(AVERAGE(AN17:AP17),"")
A18: =T5ST1!A18 -> 12 | B18: =T5ST1!B18 -> 0 | C18: =T5ST1!C18 -> FAHRUL ZAELANI | G18: =IFERROR(AVERAGE(D18:F18),"") | K18: =IFERROR(AVERAGE(H18:J18),"") | O18: =IFERROR(AVERAGE(L18:N18),"") | S18: =IFERROR(AVERAGE(P18:R18),"") | W18: =IFERROR(AVERAGE(T18:V18),"") | AA18: =IFERROR(AVERAGE(X18:Z18),"") | AE18: =IFERROR(AVERAGE(AB18:AD18),"") | AM18: =IFERROR(AVERAGE(AJ18:AL18),"") | AQ18: =IFERROR(AVERAGE(AN18:AP18),"")
... A32: =T5ST1!A32 -> 26 | B32: =T5ST1!B32 -> 0 | C32: =T5ST1!C32 -> YASA FITRONI | G32: =IFERROR(AVERAGE(D32:F32),"") | K32: =IFERROR(AVERAGE(H32:J32),"") | O32: =IFERROR(AVERAGE(L32:N32),"") | S32: =IFERROR(AVERAGE(P32:R32),"") | W32: =IFERROR(AVERAGE(T32:V32),"") | AA32: =IFERROR(AVERAGE(X32:Z32),"") | AE32: =IFERROR(AVERAGE(AB32:AD32),"") | AM32: =IFERROR(AVERAGE(AJ32:AL32),"") | AQ32: =IFERROR(AVERAGE(AN32:AP32),"")
A33: 27 | G33: =IFERROR(AVERAGE(D33:F33),"") | K33: =IFERROR(AVERAGE(H33:J33),"") | O33: =IFERROR(AVERAGE(L33:N33),"") | S33: =IFERROR(AVERAGE(P33:R33),"") | W33: =IFERROR(AVERAGE(T33:V33),"") | AA33: =IFERROR(AVERAGE(X33:Z33),"") | AE33: =IFERROR(AVERAGE(AB33:AD33),"") | AM33: =IFERROR(AVERAGE(AJ33:AL33),"") | AQ33: =IFERROR(AVERAGE(AN33:AP33),"")
AJ37: ................................................................................2019
C38: Mengetahui
C39: Kepala Sekolah | AJ39: Guru Kelas 1
C44: Tatang Kusdiana, S.Pd.,M.Pd. | AJ44: =T5ST3!AJ43 -> WEBSITEEDUKASI.COM
C45: NIP. 19601205 198201 1 004 | AJ45: =T5ST3!AJ44 -> NIP19880420 201409 0 000

Sheet T6ST1
A1: =T5ST1!A1 -> DAFTAR NILAI KELAS 1 SEMESTER 2
A2: TEMA 6 SUB TEMA 1
A4: NO | B4: NISN | C4: NAMA SISWA | D4: =T5ST4!D4 -> PKN | L4: B. INDO | T4: =T5ST4!T4 -> MATEMATIKA | AB4: =T5ST4!AB4 -> PJOK | AJ4: =T5ST4!AJ4 -> SBDP
D5: KD 3.2 | H5: KD 4.2 | L5: KD 3.8 | P5: KD 4.8 | T5: KD 3.4 | X5: KD 4.4 | AB5: KD 3.5 | AF5: KD 4.5 | AJ5: KD 3.2 | AN5: KD 4.2
D6: Tls | E6: Lsn | F6: Tgs | G6: RT | H6: Prkt | I6: Prod | J6: Pryk | K6: RT | L6: Tls | M6: Lsn | N6: Tgs | O6: RT | P6: Prkt | Q6: Prod | R6: Pryk | S6: RT | T6: Tls | U6: Lsn | V6: Tgs | W6: RT | X6: Prkt | Y6: Prod | Z6: Pryk | AA6: RT | AB6: Tls | AC6: Lsn | AD6: Tgs | AE6: RT | AF6: Prkt | AG6: Prod | AH6: Pryk | AI6: RT | AJ6: Tls | AK6: Lsn | AL6: Tgs | AM6: RT | AN6: Prkt | AO6: Prod | AP6: Pryk | AQ6: RT
A7: =T5ST1!A7 -> 1 | B7: =T5ST1!B7 -> 0 | C7: =T5ST1!C7 -> ARI RUSWANDANA | G7: =IFERROR(AVERAGE(D7:F7),"") | K7: =IFERROR(AVERAGE(H7:J7),"") | O7: =IFERROR(AVERAGE(L7:N7),"") | S7: =IFERROR(AVERAGE(P7:R7),"") | W7: =IFERROR(AVERAGE(T7:V7),"") | AA7: =IFERROR(AVERAGE(X7:Z7),"") | AE7: =IFERROR(AVERAGE(AB7:AD7),"") | AI7: =IFERROR(AVERAGE(AF7:AH7),"") | AM7: =IFERROR(AVERAGE(AJ7:AL7),"") | AQ7: =IFERROR(AVERAGE(AN7:AP7),"")
A8: =T5ST1!A8 -> 2 | B8: =T5ST1!B8 -> 0 | C8: =T5ST1!C8 -> ADAM FADILAH HATMAJI | G8: =IFERROR(AVERAGE(D8:F8),"") | K8: =IFERROR(AVERAGE(H8:J8),"") | O8: =IFERROR(AVERAGE(L8:N8),"") | S8: =IFERROR(AVERAGE(P8:R8),"") | W8: =IFERROR(AVERAGE(T8:V8),"") | AA8: =IFERROR(AVERAGE(X8:Z8),"") | AE8: =IFERROR(AVERAGE(AB8:AD8),"") | AI8: =IFERROR(AVERAGE(AF8:AH8),"") | AM8: =IFERROR(AVERAGE(AJ8:AL8),"") | AQ8: =IFERROR(AVERAGE(AN8:AP8),"")
A9: =T5ST1!A9 -> 3 | B9: =T5ST1!B9 -> 0 | C9: =T5ST1!C9 -> AJRIL BILUTFILLAHIL MUNIR | G9: =IFERROR(AVERAGE(D9:F9),"") | K9: =IFERROR(AVERAGE(H9:J9),"") | O9: =IFERROR(AVERAGE(L9:N9),"") | S9: =IFERROR(AVERAGE(P9:R9),"") | W9: =IFERROR(AVERAGE(T9:V9),"") | AA9: =IFERROR(AVERAGE(X9:Z9),"") | AE9: =IFERROR(AVERAGE(AB9:AD9),"") | AI9: =IFERROR(AVERAGE(AF9:AH9),"") | AM9: =IFERROR(AVERAGE(AJ9:AL9),"") | AQ9: =IFERROR(AVERAGE(AN9:AP9),"")
A10: =T5ST1!A10 -> 4 | B10: =T5ST1!B10 -> 0 | C10: =T5ST1!C10 -> ALDIANSYAH | G10: =IFERROR(AVERAGE(D10:F10),"") | K10: =IFERROR(AVERAGE(H10:J10),"") | O10: =IFERROR(AVERAGE(L10:N10),"") | S10: =IFERROR(AVERAGE(P10:R10),"") | W10: =IFERROR(AVERAGE(T10:V10),"") | AA10: =IFERROR(AVERAGE(X10:Z10),"") | AE10: =IFERROR(AVERAGE(AB10:AD10),"") | AI10: =IFERROR(AVERAGE(AF10:AH10),"") | AM10: =IFERROR(AVERAGE(AJ10:AL10),"") | AQ10: =IFERROR(AVERAGE(AN10:AP10),"")
A11: =T5ST1!A11 -> 5 | B11: =T5ST1!B11 -> 0 | C11: =T5ST1!C11 -> ANDINI RAHMAWATI | G11: =IFERROR(AVERAGE(D11:F11),"") | K11: =IFERROR(AVERAGE(H11:J11),"") | O11: =IFERROR(AVERAGE(L11:N11),"") | S11: =IFERROR(AVERAGE(P11:R11),"") | W11: =IFERROR(AVERAGE(T11:V11),"") | AA11: =IFERROR(AVERAGE(X11:Z11),"") | AE11: =IFERROR(AVERAGE(AB11:AD11),"") | AI11: =IFERROR(AVERAGE(AF11:AH11),"") | AM11: =IFERROR(AVERAGE(AJ11:AL11),"") | AQ11: =IFERROR(AVERAGE(AN11:AP11),"")
A12: =T5ST1!A12 -> 6 | B12: =T5ST1!B12 -> 0 | C12: =T5ST1!C12 -> ANEU ZAHROTUL MUNA | G12: =IFERROR(AVERAGE(D12:F12),"") | K12: =IFERROR(AVERAGE(H12:J12),"") | O12: =IFERROR(AVERAGE(L12:N12),"") | S12: =IFERROR(AVERAGE(P12:R12),"") | W12: =IFERROR(AVERAGE(T12:V12),"") | AA12: =IFERROR(AVERAGE(X12:Z12),"") | AE12: =IFERROR(AVERAGE(AB12:AD12),"") | AI12: =IFERROR(AVERAGE(AF12:AH12),"") | AM12: =IFERROR(AVERAGE(AJ12:AL12),"") | AQ12: =IFERROR(AVERAGE(AN12:AP12),"")
A13: =T5ST1!A13 -> 7 | B13: =T5ST1!B13 -> 0 | C13: =T5ST1!C13 -> ANISA NURSAHIDAH | G13: =IFERROR(AVERAGE(D13:F13),"") | K13: =IFERROR(AVERAGE(H13:J13),"") | O13: =IFERROR(AVERAGE(L13:N13),"") | S13: =IFERROR(AVERAGE(P13:R13),"") | W13: =IFERROR(AVERAGE(T13:V13),"") | AA13: =IFERROR(AVERAGE(X13:Z13),"") | AE13: =IFERROR(AVERAGE(AB13:AD13),"") | AI13: =IFERROR(AVERAGE(AF13:AH13),"") | AM13: =IFERROR(AVERAGE(AJ13:AL13),"") | AQ13: =IFERROR(AVERAGE(AN13:AP13),"")
A14: =T5ST1!A14 -> 8 | B14: =T5ST1!B14 -> 0 | C14: =T5ST1!C14 -> ARYA RHAMDAN | G14: =IFERROR(AVERAGE(D14:F14),"") | K14: =IFERROR(AVERAGE(H14:J14),"") | O14: =IFERROR(AVERAGE(L14:N14),"") | S14: =IFERROR(AVERAGE(P14:R14),"") | W14: =IFERROR(AVERAGE(T14:V14),"") | AA14: =IFERROR(AVERAGE(X14:Z14),"") | AE14: =IFERROR(AVERAGE(AB14:AD14),"") | AI14: =IFERROR(AVERAGE(AF14:AH14),"") | AM14: =IFERROR(AVERAGE(AJ14:AL14),"") | AQ14: =IFERROR(AVERAGE(AN14:AP14),"")
A15: =T5ST1!A15 -> 9 | B15: =T5ST1!B15 -> 0 | C15: =T5ST1!C15 -> AZMI RIHADATUL AISY | G15: =IFERROR(AVERAGE(D15:F15),"") | K15: =IFERROR(AVERAGE(H15:J15),"") | O15: =IFERROR(AVERAGE(L15:N15),"") | S15: =IFERROR(AVERAGE(P15:R15),"") | W15: =IFERROR(AVERAGE(T15:V15),"") | AA15: =IFERROR(AVERAGE(X15:Z15),"") | AE15: =IFERROR(AVERAGE(AB15:AD15),"") | AI15: =IFERROR(AVERAGE(AF15:AH15),"") | AM15: =IFERROR(AVERAGE(AJ15:AL15),"") | AQ15: =IFERROR(AVERAGE(AN15:AP15),"")
A16: =T5ST1!A16 -> 10 | B16: =T5ST1!B16 -> 0 | C16: =T5ST1!C16 -> DARIS DARMAWAN | G16: =IFERROR(AVERAGE(D16:F16),"") | K16: =IFERROR(AVERAGE(H16:J16),"") | O16: =IFERROR(AVERAGE(L16:N16),"") | S16: =IFERROR(AVERAGE(P16:R16),"") | W16: =IFERROR(AVERAGE(T16:V16),"") | AA16: =IFERROR(AVERAGE(X16:Z16),"") | AE16: =IFERROR(AVERAGE(AB16:AD16),"") | AI16: =IFERROR(AVERAGE(AF16:AH16),"") | AM16: =IFERROR(AVERAGE(AJ16:AL16),"") | AQ16: =IFERROR(AVERAGE(AN16:AP16),"")
A17: =T5ST1!A17 -> 11 | B17: =T5ST1!B17 -> 0 | C17: =T5ST1!C17 -> DINA NOPITASARI | G17: =IFERROR(AVERAGE(D17:F17),"") | K17: =IFERROR(AVERAGE(H17:J17),"") | O17: =IFERROR(AVERAGE(L17:N17),"") | S17: =IFERROR(AVERAGE(P17:R17),"") | W17: =IFERROR(AVERAGE(T17:V17),"") | AA17: =IFERROR(AVERAGE(X17:Z17),"") | AE17: =IFERROR(AVERAGE(AB17:AD17),"") | AI17: =IFERROR(AVERAGE(AF17:AH17),"") | AM17: =IFERROR(AVERAGE(AJ17:AL17),"") | AQ17: =IFERROR(AVERAGE(AN17:AP17),"")
A18: =T5ST1!A18 -> 12 | B18: =T5ST1!B18 -> 0 | C18: =T5ST1!C18 -> FAHRUL ZAELANI | G18: =IFERROR(AVERAGE(D18:F18),"") | K18: =IFERROR(AVERAGE(H18:J18),"") | O18: =IFERROR(AVERAGE(L18:N18),"") | S18: =IFERROR(AVERAGE(P18:R18),"") | W18: =IFERROR(AVERAGE(T18:V18),"") | AA18: =IFERROR(AVERAGE(X18:Z18),"") | AE18: =IFERROR(AVERAGE(AB18:AD18),"") | AI18: =IFERROR(AVERAGE(AF18:AH18),"") | AM18: =IFERROR(AVERAGE(AJ18:AL18),"") | AQ18: =IFERROR(AVERAGE(AN18:AP18),"")
... A32: =T5ST1!A32 -> 26 | B32: =T5ST1!B32 -> 0 | C32: =T5ST1!C32 -> YASA FITRONI | G32: =IFERROR(AVERAGE(D32:F32),"") | K32: =IFERROR(AVERAGE(H32:J32),"") | O32: =IFERROR(AVERAGE(L32:N32),"") | S32: =IFERROR(AVERAGE(P32:R32),"") | W32: =IFERROR(AVERAGE(T32:V32),"") | AA32: =IFERROR(AVERAGE(X32:Z32),"") | AE32: =IFERROR(AVERAGE(AB32:AD32),"") | AI32: =IFERROR(AVERAGE(AF32:AH32),"") | AM32: =IFERROR(AVERAGE(AJ32:AL32),"") | AQ32: =IFERROR(AVERAGE(AN32:AP32),"")
A33: 27 | G33: =IFERROR(AVERAGE(D33:F33),"") | K33: =IFERROR(AVERAGE(H33:J33),"") | O33: =IFERROR(AVERAGE(L33:N33),"") | S33: =IFERROR(AVERAGE(P33:R33),"") | W33: =IFERROR(AVERAGE(T33:V33),"") | AA33: =IFERROR(AVERAGE(X33:Z33),"") | AE33: =IFERROR(AVERAGE(AB33:AD33),"") | AI33: =IFERROR(AVERAGE(AF33:AH33),"") | AM33: =IFERROR(AVERAGE(AJ33:AL33),"") | AQ33: =IFERROR(AVERAGE(AN33:AP33),"")
AJ36: ................................................................................2019
C37: Mengetahui
C38: Kepala Sekolah | AJ38: Guru Kelas 1
C43: Tatang Kusdiana, S.Pd.,M.Pd. | AJ43: =T5ST3!AJ43 -> WEBSITEEDUKASI.COM
C44: NIP. 19601205 198201 1 004 | AJ44: =T5ST3!AJ44 -> NIP19880420 201409 0 000

Sheet T6ST2
A1: =T5ST1!A1 -> DAFTAR NILAI KELAS 1 SEMESTER 2
A2: TEMA 6 SUB TEMA 2
A4: NO | B4: NISN | C4: NAMA SISWA | D4: =T6ST1!D4 -> PKN | L4: =T6ST1!L4 -> B. INDO | T4: =T6ST1!T4 -> MATEMATIKA | AB4: =T6ST1!AB4 -> PJOK | AJ4: =T6ST1!AJ4 -> SBDP
D5: KD 3.4 | H5: KD 4.4 | L5: KD 3.8 | P5: KD 4.8 | T5: KD 3.7 | X5: KD 4.7 | AB5: KD 3.5 | AF5: KD 4.5 | AJ5: KD 3.3 | AN5: KD 4.3
D6: Tls | E6: Lsn | F6: Tgs | G6: RT | H6: Prkt | I6: Prod | J6: Pryk | K6: RT | L6: Tls | M6: Lsn | N6: Tgs | O6: RT | P6: Prkt | Q6: Prod | R6: Pryk | S6: RT | T6: Tls | U6: Lsn | V6: Tgs | W6: RT | X6: Prkt | Y6: Prod | Z6: Pryk | AA6: RT | AB6: Tls | AC6: Lsn | AD6: Tgs | AE6: RT | AF6: Prkt | AG6: Prod | AH6: Pryk | AI6: RT | AJ6: Tls | AK6: Lsn | AL6: Tgs | AM6: RT | AN6: Prkt | AO6: Prod | AP6: Pryk | AQ6: RT
A7: =T5ST1!A7 -> 1 | B7: =T5ST1!B7 -> 0 | C7: =T5ST1!C7 -> ARI RUSWANDANA | G7: =IFERROR(AVERAGE(D7:F7),"") | K7: =IFERROR(AVERAGE(H7:J7),"") | O7: =IFERROR(AVERAGE(L7:N7),"") | S7: =IFERROR(AVERAGE(P7:R7),"") | W7: =IFERROR(AVERAGE(T7:V7),"") | AA7: =IFERROR(AVERAGE(X7:Z7),"") | AE7: =IFERROR(AVERAGE(AB7:AD7),"") | AI7: =IFERROR(AVERAGE(AF7:AH7),"") | AM7: =IFERROR(AVERAGE(AJ7:AL7),"") | AQ7: =IFERROR(AVERAGE(AN7:AP7),"")
A8: =T5ST1!A8 -> 2 | B8: =T5ST1!B8 -> 0 | C8: =T5ST1!C8 -> ADAM FADILAH HATMAJI | G8: =IFERROR(AVERAGE(D8:F8),"") | K8: =IFERROR(AVERAGE(H8:J8),"") | O8: =IFERROR(AVERAGE(L8:N8),"") | S8: =IFERROR(AVERAGE(P8:R8),"") | W8: =IFERROR(AVERAGE(T8:V8),"") | AA8: =IFERROR(AVERAGE(X8:Z8),"") | AE8: =IFERROR(AVERAGE(AB8:AD8),"") | AI8: =IFERROR(AVERAGE(AF8:AH8),"") | AM8: =IFERROR(AVERAGE(AJ8:AL8),"") | AQ8: =IFERROR(AVERAGE(AN8:AP8),"")
A9: =T5ST1!A9 -> 3 | B9: =T5ST1!B9 -> 0 | C9: =T5ST1!C9 -> AJRIL BILUTFILLAHIL MUNIR | G9: =IFERROR(AVERAGE(D9:F9),"") | K9: =IFERROR(AVERAGE(H9:J9),"") | O9: =IFERROR(AVERAGE(L9:N9),"") | S9: =IFERROR(AVERAGE(P9:R9),"") | W9: =IFERROR(AVERAGE(T9:V9),"") | AA9: =IFERROR(AVERAGE(X9:Z9),"") | AE9: =IFERROR(AVERAGE(AB9:AD9),"") | AI9: =IFERROR(AVERAGE(AF9:AH9),"") | AM9: =IFERROR(AVERAGE(AJ9:AL9),"") | AQ9: =IFERROR(AVERAGE(AN9:AP9),"")
A10: =T5ST1!A10 -> 4 | B10: =T5ST1!B10 -> 0 | C10: =T5ST1!C10 -> ALDIANSYAH | G10: =IFERROR(AVERAGE(D10:F10),"") | K10: =IFERROR(AVERAGE(H10:J10),"") | O10: =IFERROR(AVERAGE(L10:N10),"") | S10: =IFERROR(AVERAGE(P10:R10),"") | W10: =IFERROR(AVERAGE(T10:V10),"") | AA10: =IFERROR(AVERAGE(X10:Z10),"") | AE10: =IFERROR(AVERAGE(AB10:AD10),"") | AI10: =IFERROR(AVERAGE(AF10:AH10),"") | AM10: =IFERROR(AVERAGE(AJ10:AL10),"") | AQ10: =IFERROR(AVERAGE(AN10:AP10),"")
A11: =T5ST1!A11 -> 5 | B11: =T5ST1!B11 -> 0 | C11: =T5ST1!C11 -> ANDINI RAHMAWATI | G11: =IFERROR(AVERAGE(D11:F11),"") | K11: =IFERROR(AVERAGE(H11:J11),"") | O11: =IFERROR(AVERAGE(L11:N11),"") | S11: =IFERROR(AVERAGE(P11:R11),"") | W11: =IFERROR(AVERAGE(T11:V11),"") | AA11: =IFERROR(AVERAGE(X11:Z11),"") | AE11: =IFERROR(AVERAGE(AB11:AD11),"") | AI11: =IFERROR(AVERAGE(AF11:AH11),"") | AM11: =IFERROR(AVERAGE(AJ11:AL11),"") | AQ11: =IFERROR(AVERAGE(AN11:AP11),"")
A12: =T5ST1!A12 -> 6 | B12: =T5ST1!B12 -> 0 | C12: =T5ST1!C12 -> ANEU ZAHROTUL MUNA | G12: =IFERROR(AVERAGE(D12:F12),"") | K12: =IFERROR(AVERAGE(H12:J12),"") | O12: =IFERROR(AVERAGE(L12:N12),"") | S12: =IFERROR(AVERAGE(P12:R12),"") | W12: =IFERROR(AVERAGE(T12:V12),"") | AA12: =IFERROR(AVERAGE(X12:Z12),"") | AE12: =IFERROR(AVERAGE(AB12:AD12),"") | AI12: =IFERROR(AVERAGE(AF12:AH12),"") | AM12: =IFERROR(AVERAGE(AJ12:AL12),"") | AQ12: =IFERROR(AVERAGE(AN12:AP12),"")
A13: =T5ST1!A13 -> 7 | B13: =T5ST1!B13 -> 0 | C13: =T5ST1!C13 -> ANISA NURSAHIDAH | G13: =IFERROR(AVERAGE(D13:F13),"") | K13: =IFERROR(AVERAGE(H13:J13),"") | O13: =IFERROR(AVERAGE(L13:N13),"") | S13: =IFERROR(AVERAGE(P13:R13),"") | W13: =IFERROR(AVERAGE(T13:V13),"") | AA13: =IFERROR(AVERAGE(X13:Z13),"") | AE13: =IFERROR(AVERAGE(AB13:AD13),"") | AI13: =IFERROR(AVERAGE(AF13:AH13),"") | AM13: =IFERROR(AVERAGE(AJ13:AL13),"") | AQ13: =IFERROR(AVERAGE(AN13:AP13),"")
A14: =T5ST1!A14 -> 8 | B14: =T5ST1!B14 -> 0 | C14: =T5ST1!C14 -> ARYA RHAMDAN | G14: =IFERROR(AVERAGE(D14:F14),"") | K14: =IFERROR(AVERAGE(H14:J14),"") | O14: =IFERROR(AVERAGE(L14:N14),"") | S14: =IFERROR(AVERAGE(P14:R14),"") | W14: =IFERROR(AVERAGE(T14:V14),"") | AA14: =IFERROR(AVERAGE(X14:Z14),"") | AE14: =IFERROR(AVERAGE(AB14:AD14),"") | AI14: =IFERROR(AVERAGE(AF14:AH14),"") | AM14: =IFERROR(AVERAGE(AJ14:AL14),"") | AQ14: =IFERROR(AVERAGE(AN14:AP14),"")
A15: =T5ST1!A15 -> 9 | B15: =T5ST1!B15 -> 0 | C15: =T5ST1!C15 -> AZMI RIHADATUL AISY | G15: =IFERROR(AVERAGE(D15:F15),"") | K15: =IFERROR(AVERAGE(H15:J15),"") | O15: =IFERROR(AVERAGE(L15:N15),"") | S15: =IFERROR(AVERAGE(P15:R15),"") | W15: =IFERROR(AVERAGE(T15:V15),"") | AA15: =IFERROR(AVERAGE(X15:Z15),"") | AE15: =IFERROR(AVERAGE(AB15:AD15),"") | AI15: =IFERROR(AVERAGE(AF15:AH15),"") | AM15: =IFERROR(AVERAGE(AJ15:AL15),"") | AQ15: =IFERROR(AVERAGE(AN15:AP15),"")
A16: =T5ST1!A16 -> 10 | B16: =T5ST1!B16 -> 0 | C16: =T5ST1!C16 -> DARIS DARMAWAN | G16: =IFERROR(AVERAGE(D16:F16),"") | K16: =IFERROR(AVERAGE(H16:J16),"") | O16: =IFERROR(AVERAGE(L16:N16),"") | S16: =IFERROR(AVERAGE(P16:R16),"") | W16: =IFERROR(AVERAGE(T16:V16),"") | AA16: =IFERROR(AVERAGE(X16:Z16),"") | AE16: =IFERROR(AVERAGE(AB16:AD16),"") | AI16: =IFERROR(AVERAGE(AF16:AH16),"") | AM16: =IFERROR(AVERAGE(AJ16:AL16),"") | AQ16: =IFERROR(AVERAGE(AN16:AP16),"")
A17: =T5ST1!A17 -> 11 | B17: =T5ST1!B17 -> 0 | C17: =T5ST1!C17 -> DINA NOPITASARI | G17: =IFERROR(AVERAGE(D17:F17),"") | K17: =IFERROR(AVERAGE(H17:J17),"") | O17: =IFERROR(AVERAGE(L17:N17),"") | S17: =IFERROR(AVERAGE(P17:R17),"") | W17: =IFERROR(AVERAGE(T17:V17),"") | AA17: =IFERROR(AVERAGE(X17:Z17),"") | AE17: =IFERROR(AVERAGE(AB17:AD17),"") | AI17: =IFERROR(AVERAGE(AF17:AH17),"") | AM17: =IFERROR(AVERAGE(AJ17:AL17),"") | AQ17: =IFERROR(AVERAGE(AN17:AP17),"")
A18: =T5ST1!A18 -> 12 | B18: =T5ST1!B18 -> 0 | C18: =T5ST1!C18 -> FAHRUL ZAELANI | G18: =IFERROR(AVERAGE(D18:F18),"") | K18: =IFERROR(AVERAGE(H18:J18),"") | O18: =IFERROR(AVERAGE(L18:N18),"") | S18: =IFERROR(AVERAGE(P18:R18),"") | W18: =IFERROR(AVERAGE(T18:V18),"") | AA18: =IFERROR(AVERAGE(X18:Z18),"") | AE18: =IFERROR(AVERAGE(AB18:AD18),"") | AI18: =IFERROR(AVERAGE(AF18:AH18),"") | AM18: =IFERROR(AVERAGE(AJ18:AL18),"") | AQ18: =IFERROR(AVERAGE(AN18:AP18),"")
... A32: =T5ST1!A32 -> 26 | B32: =T5ST1!B32 -> 0 | C32: =T5ST1!C32 -> YASA FITRONI | G32: =IFERROR(AVERAGE(D32:F32),"") | K32: =IFERROR(AVERAGE(H32:J32),"") | O32: =IFERROR(AVERAGE(L32:N32),"") | S32: =IFERROR(AVERAGE(P32:R32),"") | W32: =IFERROR(AVERAGE(T32:V32),"") | AA32: =IFERROR(AVERAGE(X32:Z32),"") | AE32: =IFERROR(AVERAGE(AB32:AD32),"") | AI32: =IFERROR(AVERAGE(AF32:AH32),"") | AM32: =IFERROR(AVERAGE(AJ32:AL32),"") | AQ32: =IFERROR(AVERAGE(AN32:AP32),"")
A33: 27 | G33: =IFERROR(AVERAGE(D33:F33),"") | K33: =IFERROR(AVERAGE(H33:J33),"") | O33: =IFERROR(AVERAGE(L33:N33),"") | S33: =IFERROR(AVERAGE(P33:R33),"") | W33: =IFERROR(AVERAGE(T33:V33),"") | AA33: =IFERROR(AVERAGE(X33:Z33),"") | AE33: =IFERROR(AVERAGE(AB33:AD33),"") | AI33: =IFERROR(AVERAGE(AF33:AH33),"") | AM33: =IFERROR(AVERAGE(AJ33:AL33),"") | AQ33: =IFERROR(AVERAGE(AN33:AP33),"")
AI36: ................................................................................2019
C37: Mengetahui
C38: Kepala Sekolah | AI38: Guru Kelas 1
C43: Tatang Kusdiana, S.Pd.,M.Pd. | AI43: =T5ST4!AJ44 -> WEBSITEEDUKASI.COM
C44: NIP. 19601205 198201 1 004 | AI44: =T5ST4!AJ45 -> NIP19880420 201409 0 000

Sheet T6ST3
A1: =T5ST1!A1 -> DAFTAR NILAI KELAS 1 SEMESTER 2
A2: TEMA 6 SUB TEMA 3
A4: NO | B4: NISN | C4: NAMA SISWA | D4: =T6ST2!D4 -> PKN | L4: =T6ST2!L4 -> B. INDO | T4: =T6ST2!T4 -> MATEMATIKA | AB4: =T6ST2!AB4 -> PJOK | AJ4: =T6ST2!AJ4 -> SBDP
D5: KD 3.1 | H5: KD 4.1 | L5: KD 3.8 | P5: KD 4.8 | T5: KD 3.8 | X5: KD 4.8 | AB5: KD 3.5 | AF5: KD 4.5 | AJ5: KD 3.1 | AN5: KD 4.1
D6: Tls | E6: Lsn | F6: Tgs | G6: RT | H6: Prkt | I6: Prod | J6: Pryk | K6: RT | L6: Tls | M6: Lsn | N6: Tgs | O6: RT | P6: Prkt | Q6: Prod | R6: Pryk | S6: RT | T6: Tls | U6: Lsn | V6: Tgs | W6: RT | X6: Prkt | Y6: Prod | Z6: Pryk | AA6: RT | AB6: Tls | AC6: Lsn | AD6: Tgs | AE6: RT | AF6: Prkt | AG6: Prod | AH6: Pryk | AI6: RT | AJ6: Tls | AK6: Lsn | AL6: Tgs | AM6: RT | AN6: Prkt | AO6: Prod | AP6: Pryk | AQ6: RT
A7: =T5ST1!A7 -> 1 | B7: =T5ST1!B7 -> 0 | C7: =T5ST1!C7 -> ARI RUSWANDANA | G7: =IFERROR(AVERAGE(D7:F7),"") | K7: =IFERROR(AVERAGE(H7:J7),"") | O7: =IFERROR(AVERAGE(L7:N7),"") | S7: =IFERROR(AVERAGE(P7:R7),"") | W7: =IFERROR(AVERAGE(T7:V7),"") | AA7: =IFERROR(AVERAGE(X7:Z7),"") | AE7: =IFERROR(AVERAGE(AB7:AD7),"") | AI7: =IFERROR(AVERAGE(AF7:AH7),"") | AM7: =IFERROR(AVERAGE(AJ7:AL7),"") | AQ7: =IFERROR(AVERAGE(AN7:AP7),"")
A8: =T5ST1!A8 -> 2 | B8: =T5ST1!B8 -> 0 | C8: =T5ST1!C8 -> ADAM FADILAH HATMAJI | G8: =IFERROR(AVERAGE(D8:F8),"") | K8: =IFERROR(AVERAGE(H8:J8),"") | O8: =IFERROR(AVERAGE(L8:N8),"") | S8: =IFERROR(AVERAGE(P8:R8),"") | W8: =IFERROR(AVERAGE(T8:V8),"") | AA8: =IFERROR(AVERAGE(X8:Z8),"") | AE8: =IFERROR(AVERAGE(AB8:AD8),"") | AI8: =IFERROR(AVERAGE(AF8:AH8),"") | AM8: =IFERROR(AVERAGE(AJ8:AL8),"") | AQ8: =IFERROR(AVERAGE(AN8:AP8),"")
A9: =T5ST1!A9 -> 3 | B9: =T5ST1!B9 -> 0 | C9: =T5ST1!C9 -> AJRIL BILUTFILLAHIL MUNIR | G9: =IFERROR(AVERAGE(D9:F9),"") | K9: =IFERROR(AVERAGE(H9:J9),"") | O9: =IFERROR(AVERAGE(L9:N9),"") | S9: =IFERROR(AVERAGE(P9:R9),"") | W9: =IFERROR(AVERAGE(T9:V9),"") | AA9: =IFERROR(AVERAGE(X9:Z9),"") | AE9: =IFERROR(AVERAGE(AB9:AD9),"") | AI9: =IFERROR(AVERAGE(AF9:AH9),"") | AM9: =IFERROR(AVERAGE(AJ9:AL9),"") | AQ9: =IFERROR(AVERAGE(AN9:AP9),"")
A10: =T5ST1!A10 -> 4 | B10: =T5ST1!B10 -> 0 | C10: =T5ST1!C10 -> ALDIANSYAH | G10: =IFERROR(AVERAGE(D10:F10),"") | K10: =IFERROR(AVERAGE(H10:J10),"") | O10: =IFERROR(AVERAGE(L10:N10),"") | S10: =IFERROR(AVERAGE(P10:R10),"") | W10: =IFERROR(AVERAGE(T10:V10),"") | AA10: =IFERROR(AVERAGE(X10:Z10),"") | AE10: =IFERROR(AVERAGE(AB10:AD10),"") | AI10: =IFERROR(AVERAGE(AF10:AH10),"") | AM10: =IFERROR(AVERAGE(AJ10:AL10),"") | AQ10: =IFERROR(AVERAGE(AN10:AP10),"")
A11: =T5ST1!A11 -> 5 | B11: =T5ST1!B11 -> 0 | C11: =T5ST1!C11 -> ANDINI RAHMAWATI | G11: =IFERROR(AVERAGE(D11:F11),"") | K11: =IFERROR(AVERAGE(H11:J11),"") | O11: =IFERROR(AVERAGE(L11:N11),"") | S11: =IFERROR(AVERAGE(P11:R11),"") | W11: =IFERROR(AVERAGE(T11:V11),"") | AA11: =IFERROR(AVERAGE(X11:Z11),"") | AE11: =IFERROR(AVERAGE(AB11:AD11),"") | AI11: =IFERROR(AVERAGE(AF11:AH11),"") | AM11: =IFERROR(AVERAGE(AJ11:AL11),"") | AQ11: =IFERROR(AVERAGE(AN11:AP11),"")
A12: =T5ST1!A12 -> 6 | B12: =T5ST1!B12 -> 0 | C12: =T5ST1!C12 -> ANEU ZAHROTUL MUNA | G12: =IFERROR(AVERAGE(D12:F12),"") | K12: =IFERROR(AVERAGE(H12:J12),"") | O12: =IFERROR(AVERAGE(L12:N12),"") | S12: =IFERROR(AVERAGE(P12:R12),"") | W12: =IFERROR(AVERAGE(T12:V12),"") | AA12: =IFERROR(AVERAGE(X12:Z12),"") | AE12: =IFERROR(AVERAGE(AB12:AD12),"") | AI12: =IFERROR(AVERAGE(AF12:AH12),"") | AM12: =IFERROR(AVERAGE(AJ12:AL12),"") | AQ12: =IFERROR(AVERAGE(AN12:AP12),"")
A13: =T5ST1!A13 -> 7 | B13: =T5ST1!B13 -> 0 | C13: =T5ST1!C13 -> ANISA NURSAHIDAH | G13: =IFERROR(AVERAGE(D13:F13),"") | K13: =IFERROR(AVERAGE(H13:J13),"") | O13: =IFERROR(AVERAGE(L13:N13),"") | S13: =IFERROR(AVERAGE(P13:R13),"") | W13: =IFERROR(AVERAGE(T13:V13),"") | AA13: =IFERROR(AVERAGE(X13:Z13),"") | AE13: =IFERROR(AVERAGE(AB13:AD13),"") | AI13: =IFERROR(AVERAGE(AF13:AH13),"") | AM13: =IFERROR(AVERAGE(AJ13:AL13),"") | AQ13: =IFERROR(AVERAGE(AN13:AP13),"")
A14: =T5ST1!A14 -> 8 | B14: =T5ST1!B14 -> 0 | C14: =T5ST1!C14 -> ARYA RHAMDAN | G14: =IFERROR(AVERAGE(D14:F14),"") | K14: =IFERROR(AVERAGE(H14:J14),"") | O14: =IFERROR(AVERAGE(L14:N14),"") | S14: =IFERROR(AVERAGE(P14:R14),"") | W14: =IFERROR(AVERAGE(T14:V14),"") | AA14: =IFERROR(AVERAGE(X14:Z14),"") | AE14: =IFERROR(AVERAGE(AB14:AD14),"") | AI14: =IFERROR(AVERAGE(AF14:AH14),"") | AM14: =IFERROR(AVERAGE(AJ14:AL14),"") | AQ14: =IFERROR(AVERAGE(AN14:AP14),"")
A15: =T5ST1!A15 -> 9 | B15: =T5ST1!B15 -> 0 | C15: =T5ST1!C15 -> AZMI RIHADATUL AISY | G15: =IFERROR(AVERAGE(D15:F15),"") | K15: =IFERROR(AVERAGE(H15:J15),"") | O15: =IFERROR(AVERAGE(L15:N15),"") | S15: =IFERROR(AVERAGE(P15:R15),"") | W15: =IFERROR(AVERAGE(T15:V15),"") | AA15: =IFERROR(AVERAGE(X15:Z15),"") | AE15: =IFERROR(AVERAGE(AB15:AD15),"") | AI15: =IFERROR(AVERAGE(AF15:AH15),"") | AM15: =IFERROR(AVERAGE(AJ15:AL15),"") | AQ15: =IFERROR(AVERAGE(AN15:AP15),"")
A16: =T5ST1!A16 -> 10 | B16: =T5ST1!B16 -> 0 | C16: =T5ST1!C16 -> DARIS DARMAWAN | G16: =IFERROR(AVERAGE(D16:F16),"") | K16: =IFERROR(AVERAGE(H16:J16),"") | O16: =IFERROR(AVERAGE(L16:N16),"") | S16: =IFERROR(AVERAGE(P16:R16),"") | W16: =IFERROR(AVERAGE(T16:V16),"") | AA16: =IFERROR(AVERAGE(X16:Z16),"") | AE16: =IFERROR(AVERAGE(AB16:AD16),"") | AI16: =IFERROR(AVERAGE(AF16:AH16),"") | AM16: =IFERROR(AVERAGE(AJ16:AL16),"") | AQ16: =IFERROR(AVERAGE(AN16:AP16),"")
A17: =T5ST1!A17 -> 11 | B17: =T5ST1!B17 -> 0 | C17: =T5ST1!C17 -> DINA NOPITASARI | G17: =IFERROR(AVERAGE(D17:F17),"") | K17: =IFERROR(AVERAGE(H17:J17),"") | O17: =IFERROR(AVERAGE(L17:N17),"") | S17: =IFERROR(AVERAGE(P17:R17),"") | W17: =IFERROR(AVERAGE(T17:V17),"") | AA17: =IFERROR(AVERAGE(X17:Z17),"") | AE17: =IFERROR(AVERAGE(AB17:AD17),"") | AI17: =IFERROR(AVERAGE(AF17:AH17),"") | AM17: =IFERROR(AVERAGE(AJ17:AL17),"") | AQ17: =IFERROR(AVERAGE(AN17:AP17),"")
A18: =T5ST1!A18 -> 12 | B18: =T5ST1!B18 -> 0 | C18: =T5ST1!C18 -> FAHRUL ZAELANI | G18: =IFERROR(AVERAGE(D18:F18),"") | K18: =IFERROR(AVERAGE(H18:J18),"") | O18: =IFERROR(AVERAGE(L18:N18),"") | S18: =IFERROR(AVERAGE(P18:R18),"") | W18: =IFERROR(AVERAGE(T18:V18),"") | AA18: =IFERROR(AVERAGE(X18:Z18),"") | AE18: =IFERROR(AVERAGE(AB18:AD18),"") | AI18: =IFERROR(AVERAGE(AF18:AH18),"") | AM18: =IFERROR(AVERAGE(AJ18:AL18),"") | AQ18: =IFERROR(AVERAGE(AN18:AP18),"")
... A32: =T5ST1!A32 -> 26 | B32: =T5ST1!B32 -> 0 | C32: =T5ST1!C32 -> YASA FITRONI | G32: =IFERROR(AVERAGE(D32:F32),"") | K32: =IFERROR(AVERAGE(H32:J32),"") | O32: =IFERROR(AVERAGE(L32:N32),"") | S32: =IFERROR(AVERAGE(P32:R32),"") | W32: =IFERROR(AVERAGE(T32:V32),"") | AA32: =IFERROR(AVERAGE(X32:Z32),"") | AE32: =IFERROR(AVERAGE(AB32:AD32),"") | AI32: =IFERROR(AVERAGE(AF32:AH32),"") | AM32: =IFERROR(AVERAGE(AJ32:AL32),"") | AQ32: =IFERROR(AVERAGE(AN32:AP32),"")
A33: 27 | G33: =IFERROR(AVERAGE(D33:F33),"") | K33: =IFERROR(AVERAGE(H33:J33),"") | O33: =IFERROR(AVERAGE(L33:N33),"") | S33: =IFERROR(AVERAGE(P33:R33),"") | W33: =IFERROR(AVERAGE(T33:V33),"") | AA33: =IFERROR(AVERAGE(X33:Z33),"") | AE33: =IFERROR(AVERAGE(AB33:AD33),"") | AI33: =IFERROR(AVERAGE(AF33:AH33),"") | AM33: =IFERROR(AVERAGE(AJ33:AL33),"") | AQ33: =IFERROR(AVERAGE(AN33:AP33),"")
AI37: ................................................................................2019
C38: Mengetahui
C39: Kepala Sekolah | AI39: Guru Kelas 1
C44: Tatang Kusdiana, S.Pd.,M.Pd. | AI44: =T5ST4!AJ44 -> WEBSITEEDUKASI.COM
C45: NIP. 19601205 198201 1 004 | AI45: =T5ST4!AJ45 -> NIP19880420 201409 0 000

Sheet T6ST4
A1: =T5ST1!A1 -> DAFTAR NILAI KELAS 1 SEMESTER 2
A2: TEMA 6 SUB TEMA 4
A4: NO | B4: NISN | C4: NAMA SISWA | D4: =T6ST2!D4 -> PKN | L4: =T6ST2!L4 -> B. INDO | T4: =T6ST2!T4 -> MATEMATIKA | AB4: =T6ST2!AB4 -> PJOK | AJ4: =T6ST2!AJ4 -> SBDP
D5: KD 3.2 | H5: KD 4.2 | L5: KD 3.8 | P5: KD 4.8 | T5: KD 3.1 | X5: KD 4.1 | AB5: KD 3.5 | AF5: KD 4.5 | AJ5: KD 3.4 | AN5: KD 4.4
D6: Tls | E6: Lsn | F6: Tgs | G6: RT | H6: Prkt | I6: Prod | J6: Pryk | K6: RT | L6: Tls | M6: Lsn | N6: Tgs | O6: RT | P6: Prkt | Q6: Prod | R6: Pryk | S6: RT | T6: Tls | U6: Lsn | V6: Tgs | W6: RT | X6: Prkt | Y6: Prod | Z6: Pryk | AA6: RT | AB6: Tls | AC6: Lsn | AD6: Tgs | AE6: RT | AF6: Prkt | AG6: Prod | AH6: Pryk | AI6: RT | AJ6: Tls | AK6: Lsn | AL6: Tgs | AM6: RT | AN6: Prkt | AO6: Prod | AP6: Pryk | AQ6: RT
A7: =T5ST1!A7 -> 1 | B7: =T5ST1!B7 -> 0 | C7: =T5ST1!C7 -> ARI RUSWANDANA | G7: =IFERROR(AVERAGE(D7:F7),"") | K7: =IFERROR(AVERAGE(H7:J7),"") | O7: =IFERROR(AVERAGE(L7:N7),"") | S7: =IFERROR(AVERAGE(P7:R7),"") | W7: =IFERROR(AVERAGE(T7:V7),"") | AA7: =IFERROR(AVERAGE(X7:Z7),"") | AE7: =IFERROR(AVERAGE(AB7:AD7),"") | AI7: =IFERROR(AVERAGE(AF7:AH7),"") | AM7: =IFERROR(AVERAGE(AJ7:AL7),"") | AQ7: =IFERROR(AVERAGE(AN7:AP7),"")
A8: =T5ST1!A8 -> 2 | B8: =T5ST1!B8 -> 0 | C8: =T5ST1!C8 -> ADAM FADILAH HATMAJI | G8: =IFERROR(AVERAGE(D8:F8),"") | K8: =IFERROR(AVERAGE(H8:J8),"") | O8: =IFERROR(AVERAGE(L8:N8),"") | S8: =IFERROR(AVERAGE(P8:R8),"") | W8: =IFERROR(AVERAGE(T8:V8),"") | AA8: =IFERROR(AVERAGE(X8:Z8),"") | AE8: =IFERROR(AVERAGE(AB8:AD8),"") | AI8: =IFERROR(AVERAGE(AF8:AH8),"") | AM8: =IFERROR(AVERAGE(AJ8:AL8),"") | AQ8: =IFERROR(AVERAGE(AN8:AP8),"")
A9: =T5ST1!A9 -> 3 | B9: =T5ST1!B9 -> 0 | C9: =T5ST1!C9 -> AJRIL BILUTFILLAHIL MUNIR | G9: =IFERROR(AVERAGE(D9:F9),"") | K9: =IFERROR(AVERAGE(H9:J9),"") | O9: =IFERROR(AVERAGE(L9:N9),"") | S9: =IFERROR(AVERAGE(P9:R9),"") | W9: =IFERROR(AVERAGE(T9:V9),"") | AA9: =IFERROR(AVERAGE(X9:Z9),"") | AE9: =IFERROR(AVERAGE(AB9:AD9),"") | AI9: =IFERROR(AVERAGE(AF9:AH9),"") | AM9: =IFERROR(AVERAGE(AJ9:AL9),"") | AQ9: =IFERROR(AVERAGE(AN9:AP9),"")
A10: =T5ST1!A10 -> 4 | B10: =T5ST1!B10 -> 0 | C10: =T5ST1!C10 -> ALDIANSYAH | G10: =IFERROR(AVERAGE(D10:F10),"") | K10: =IFERROR(AVERAGE(H10:J10),"") | O10: =IFERROR(AVERAGE(L10:N10),"") | S10: =IFERROR(AVERAGE(P10:R10),"") | W10: =IFERROR(AVERAGE(T10:V10),"") | AA10: =IFERROR(AVERAGE(X10:Z10),"") | AE10: =IFERROR(AVERAGE(AB10:AD10),"") | AI10: =IFERROR(AVERAGE(AF10:AH10),"") | AM10: =IFERROR(AVERAGE(AJ10:AL10),"") | AQ10: =IFERROR(AVERAGE(AN10:AP10),"")
A11: =T5ST1!A11 -> 5 | B11: =T5ST1!B11 -> 0 | C11: =T5ST1!C11 -> ANDINI RAHMAWATI | G11: =IFERROR(AVERAGE(D11:F11),"") | K11: =IFERROR(AVERAGE(H11:J11),"") | O11: =IFERROR(AVERAGE(L11:N11),"") | S11: =IFERROR(AVERAGE(P11:R11),"") | W11: =IFERROR(AVERAGE(T11:V11),"") | AA11: =IFERROR(AVERAGE(X11:Z11),"") | AE11: =IFERROR(AVERAGE(AB11:AD11),"") | AI11: =IFERROR(AVERAGE(AF11:AH11),"") | AM11: =IFERROR(AVERAGE(AJ11:AL11),"") | AQ11: =IFERROR(AVERAGE(AN11:AP11),"")
A12: =T5ST1!A12 -> 6 | B12: =T5ST1!B12 -> 0 | C12: =T5ST1!C12 -> ANEU ZAHROTUL MUNA | G12: =IFERROR(AVERAGE(D12:F12),"") | K12: =IFERROR(AVERAGE(H12:J12),"") | O12: =IFERROR(AVERAGE(L12:N12),"") | S12: =IFERROR(AVERAGE(P12:R12),"") | W12: =IFERROR(AVERAGE(T12:V12),"") | AA12: =IFERROR(AVERAGE(X12:Z12),"") | AE12: =IFERROR(AVERAGE(AB12:AD12),"") | AI12: =IFERROR(AVERAGE(AF12:AH12),"") | AM12: =IFERROR(AVERAGE(AJ12:AL12),"") | AQ12: =IFERROR(AVERAGE(AN12:AP12),"")
A13: =T5ST1!A13 -> 7 | B13: =T5ST1!B13 -> 0 | C13: =T5ST1!C13 -> ANISA NURSAHIDAH | G13: =IFERROR(AVERAGE(D13:F13),"") | K13: =IFERROR(AVERAGE(H13:J13),"") | O13: =IFERROR(AVERAGE(L13:N13),"") | S13: =IFERROR(AVERAGE(P13:R13),"") | W13: =IFERROR(AVERAGE(T13:V13),"") | AA13: =IFERROR(AVERAGE(X13:Z13),"") | AE13: =IFERROR(AVERAGE(AB13:AD13),"") | AI13: =IFERROR(AVERAGE(AF13:AH13),"") | AM13: =IFERROR(AVERAGE(AJ13:AL13),"") | AQ13: =IFERROR(AVERAGE(AN13:AP13),"")
A14: =T5ST1!A14 -> 8 | B14: =T5ST1!B14 -> 0 | C14: =T5ST1!C14 -> ARYA RHAMDAN | G14: =IFERROR(AVERAGE(D14:F14),"") | K14: =IFERROR(AVERAGE(H14:J14),"") | O14: =IFERROR(AVERAGE(L14:N14),"") | S14: =IFERROR(AVERAGE(P14:R14),"") | W14: =IFERROR(AVERAGE(T14:V14),"") | AA14: =IFERROR(AVERAGE(X14:Z14),"") | AE14: =IFERROR(AVERAGE(AB14:AD14),"") | AI14: =IFERROR(AVERAGE(AF14:AH14),"") | AM14: =IFERROR(AVERAGE(AJ14:AL14),"") | AQ14: =IFERROR(AVERAGE(AN14:AP14),"")
A15: =T5ST1!A15 -> 9 | B15: =T5ST1!B15 -> 0 | C15: =T5ST1!C15 -> AZMI RIHADATUL AISY | G15: =IFERROR(AVERAGE(D15:F15),"") | K15: =IFERROR(AVERAGE(H15:J15),"") | O15: =IFERROR(AVERAGE(L15:N15),"") | S15: =IFERROR(AVERAGE(P15:R15),"") | W15: =IFERROR(AVERAGE(T15:V15),"") | AA15: =IFERROR(AVERAGE(X15:Z15),"") | AE15: =IFERROR(AVERAGE(AB15:AD15),"") | AI15: =IFERROR(AVERAGE(AF15:AH15),"") | AM15: =IFERROR(AVERAGE(AJ15:AL15),"") | AQ15: =IFERROR(AVERAGE(AN15:AP15),"")
A16: =T5ST1!A16 -> 10 | B16: =T5ST1!B16 -> 0 | C16: =T5ST1!C16 -> DARIS DARMAWAN | G16: =IFERROR(AVERAGE(D16:F16),"") | K16: =IFERROR(AVERAGE(H16:J16),"") | O16: =IFERROR(AVERAGE(L16:N16),"") | S16: =IFERROR(AVERAGE(P16:R16),"") | W16: =IFERROR(AVERAGE(T16:V16),"") | AA16: =IFERROR(AVERAGE(X16:Z16),"") | AE16: =IFERROR(AVERAGE(AB16:AD16),"") | AI16: =IFERROR(AVERAGE(AF16:AH16),"") | AM16: =IFERROR(AVERAGE(AJ16:AL16),"") | AQ16: =IFERROR(AVERAGE(AN16:AP16),"")
